BEGIN:VCALENDAR
VERSION:2.0
PRODID:-//Hotel Commonwealth - ECPv5.14.1//NONSGML v1.0//EN
CALSCALE:GREGORIAN
METHOD:PUBLISH
X-WR-CALNAME:Hotel Commonwealth
X-ORIGINAL-URL:https://www.hotelcommonwealth.com
X-WR-CALDESC:Events for Hotel Commonwealth
REFRESH-INTERVAL;VALUE=DURATION:PT1H
X-Robots-Tag:noindex
X-PUBLISHED-TTL:PT1H
BEGIN:VTIMEZONE
TZID:UTC
BEGIN:STANDARD
TZOFFSETFROM:+0000
TZOFFSETTO:+0000
TZNAME:UTC
DTSTART:20250101T000000
END:STANDARD
END:VTIMEZONE
BEGIN:VEVENT
DTSTART;TZID=UTC:20250802T161000
DTEND;TZID=UTC:20250802T161000
DTSTAMP:20260420T040825
CREATED:20250109T184026Z
LAST-MODIFIED:20250109T184027Z
UID:81010-1754151000-1754151000@www.hotelcommonwealth.com
SUMMARY:Red Sox Vs. Houston Astros
DESCRIPTION:Fenway Park
URL:https://www.hotelcommonwealth.com/event/red-sox-vs-houston-astros-2/
ATTACH;FMTTYPE=image/jpeg:https://www.hotelcommonwealth.com/wp-content/uploads/2023/02/Red-Sox.jpg
END:VEVENT
BEGIN:VEVENT
DTSTART;TZID=UTC:20250802T190000
DTEND;TZID=UTC:20250802T190000
DTSTAMP:20260420T040825
CREATED:20250505T160643Z
LAST-MODIFIED:20251201T153237Z
UID:81722-1754161200-1754161200@www.hotelcommonwealth.com
SUMMARY:celebrating the 10 year anniversary of Everybody Wants - THE STRUTS
DESCRIPTION:House of Blues
URL:https://www.hotelcommonwealth.com/event/celebrating-the-10-year-anniversary-of-everybody-wants-the-struts/
ATTACH;FMTTYPE=image/jpeg:https://www.hotelcommonwealth.com/wp-content/uploads/2023/02/House-of-Blues.jpg
END:VEVENT
BEGIN:VEVENT
DTSTART;TZID=UTC:20250803T080000
DTEND;TZID=UTC:20250803T080000
DTSTAMP:20260420T040825
CREATED:20250509T145418Z
LAST-MODIFIED:20250509T145418Z
UID:81800-1754208000-1754208000@www.hotelcommonwealth.com
SUMMARY:Open Newbury Street
DESCRIPTION:
URL:https://www.hotelcommonwealth.com/event/open-newbury-street-13/
ATTACH;FMTTYPE=image/jpeg:https://www.hotelcommonwealth.com/wp-content/uploads/2024/06/IMG_0044-e1719509703665.jpg
END:VEVENT
BEGIN:VEVENT
DTSTART;TZID=UTC:20250803T133500
DTEND;TZID=UTC:20250803T133500
DTSTAMP:20260420T040825
CREATED:20250109T184044Z
LAST-MODIFIED:20250109T184044Z
UID:81012-1754228100-1754228100@www.hotelcommonwealth.com
SUMMARY:Red Sox Vs. Houston Astros
DESCRIPTION:Fenway Park
URL:https://www.hotelcommonwealth.com/event/red-sox-vs-houston-astros-3/
ATTACH;FMTTYPE=image/jpeg:https://www.hotelcommonwealth.com/wp-content/uploads/2023/02/Red-Sox.jpg
END:VEVENT
BEGIN:VEVENT
DTSTART;TZID=UTC:20250803T200000
DTEND;TZID=UTC:20250803T200000
DTSTAMP:20260420T040825
CREATED:20250502T155241Z
LAST-MODIFIED:20250502T155242Z
UID:81637-1754251200-1754251200@www.hotelcommonwealth.com
SUMMARY:Lord Huron
DESCRIPTION:MGM Music Hall at Fenway
URL:https://www.hotelcommonwealth.com/event/lord-huron/
ATTACH;FMTTYPE=image/jpeg:https://www.hotelcommonwealth.com/wp-content/uploads/2023/02/MGM-scaled.jpg
END:VEVENT
BEGIN:VEVENT
DTSTART;TZID=UTC:20250804T191000
DTEND;TZID=UTC:20250804T191000
DTSTAMP:20260420T040825
CREATED:20250109T185054Z
LAST-MODIFIED:20250109T185055Z
UID:81014-1754334600-1754334600@www.hotelcommonwealth.com
SUMMARY:Red Sox Vs. Kansas City Royals
DESCRIPTION:Fenway Park
URL:https://www.hotelcommonwealth.com/event/red-sox-vs-kansas-city-royals/
ATTACH;FMTTYPE=image/jpeg:https://www.hotelcommonwealth.com/wp-content/uploads/2023/02/Red-Sox.jpg
END:VEVENT
BEGIN:VEVENT
DTSTART;TZID=UTC:20250805T191000
DTEND;TZID=UTC:20250805T191000
DTSTAMP:20260420T040825
CREATED:20250109T185112Z
LAST-MODIFIED:20250109T185113Z
UID:81016-1754421000-1754421000@www.hotelcommonwealth.com
SUMMARY:Red Sox Vs. Kansas City Royals
DESCRIPTION:Fenway Park
URL:https://www.hotelcommonwealth.com/event/red-sox-vs-kansas-city-royals-2/
ATTACH;FMTTYPE=image/jpeg:https://www.hotelcommonwealth.com/wp-content/uploads/2023/02/Red-Sox.jpg
END:VEVENT
BEGIN:VEVENT
DTSTART;TZID=UTC:20250806T191000
DTEND;TZID=UTC:20250806T191000
DTSTAMP:20260420T040825
CREATED:20250109T185129Z
LAST-MODIFIED:20250109T185129Z
UID:81018-1754507400-1754507400@www.hotelcommonwealth.com
SUMMARY:Red Sox Vs. Kansas City Royals
DESCRIPTION:Fenway Park
URL:https://www.hotelcommonwealth.com/event/red-sox-vs-kansas-city-royals-3/
ATTACH;FMTTYPE=image/jpeg:https://www.hotelcommonwealth.com/wp-content/uploads/2023/02/Red-Sox.jpg
END:VEVENT
BEGIN:VEVENT
DTSTART;TZID=UTC:20250808T110000
DTEND;TZID=UTC:20250811T110000
DTSTAMP:20260420T040825
CREATED:20240521T152032Z
LAST-MODIFIED:20250318T175944Z
UID:78728-1754650800-1754910000@www.hotelcommonwealth.com
SUMMARY:Upper Deck Golf Experience at Fenway Park
DESCRIPTION:Fenway Park
URL:https://www.hotelcommonwealth.com/event/upper-deck-golf-experience-at-fenway-park/
ATTACH;FMTTYPE=image/jpeg:https://www.hotelcommonwealth.com/wp-content/uploads/2024/05/Capture.jpg
END:VEVENT
BEGIN:VEVENT
DTSTART;TZID=UTC:20250810T080000
DTEND;TZID=UTC:20250810T080000
DTSTAMP:20260420T040825
CREATED:20250509T145429Z
LAST-MODIFIED:20250509T145429Z
UID:81802-1754812800-1754812800@www.hotelcommonwealth.com
SUMMARY:Open Newbury Street
DESCRIPTION:
URL:https://www.hotelcommonwealth.com/event/open-newbury-street-14/
ATTACH;FMTTYPE=image/jpeg:https://www.hotelcommonwealth.com/wp-content/uploads/2024/06/IMG_0044-e1719509703665.jpg
END:VEVENT
BEGIN:VEVENT
DTSTART;TZID=UTC:20250815T191000
DTEND;TZID=UTC:20250815T191000
DTSTAMP:20260420T040825
CREATED:20250109T185204Z
LAST-MODIFIED:20250109T185205Z
UID:81020-1755285000-1755285000@www.hotelcommonwealth.com
SUMMARY:Red Sox Vs. Miami Marlins
DESCRIPTION:Fenway Park
URL:https://www.hotelcommonwealth.com/event/red-sox-vs-miami-marlins/
ATTACH;FMTTYPE=image/jpeg:https://www.hotelcommonwealth.com/wp-content/uploads/2023/02/Red-Sox.jpg
END:VEVENT
BEGIN:VEVENT
DTSTART;TZID=UTC:20250815T193000
DTEND;TZID=UTC:20250815T193000
DTSTAMP:20260420T040825
CREATED:20241118T194527Z
LAST-MODIFIED:20241118T194527Z
UID:80594-1755286200-1755286200@www.hotelcommonwealth.com
SUMMARY:Ben Rector: The Richest Man In The World Tour
DESCRIPTION:MGM Music Hall at Fenway
URL:https://www.hotelcommonwealth.com/event/ben-rector-the-richest-man-in-the-world-tour/
ATTACH;FMTTYPE=image/jpeg:https://www.hotelcommonwealth.com/wp-content/uploads/2023/02/MGM-scaled.jpg
END:VEVENT
BEGIN:VEVENT
DTSTART;TZID=UTC:20250816T161000
DTEND;TZID=UTC:20250816T161000
DTSTAMP:20260420T040825
CREATED:20250109T185222Z
LAST-MODIFIED:20250109T185222Z
UID:81022-1755360600-1755360600@www.hotelcommonwealth.com
SUMMARY:Red Sox Vs. Miami Marlins
DESCRIPTION:Fenway Park
URL:https://www.hotelcommonwealth.com/event/red-sox-vs-miami-marlins-2/
ATTACH;FMTTYPE=image/jpeg:https://www.hotelcommonwealth.com/wp-content/uploads/2023/02/Red-Sox.jpg
END:VEVENT
BEGIN:VEVENT
DTSTART;TZID=UTC:20250816T180000
DTEND;TZID=UTC:20250816T180000
DTSTAMP:20260420T040825
CREATED:20250505T160709Z
LAST-MODIFIED:20250505T160709Z
UID:81724-1755367200-1755367200@www.hotelcommonwealth.com
SUMMARY:Architects' 2025 North America Tour
DESCRIPTION:House of Blues
URL:https://www.hotelcommonwealth.com/event/architects-2025-north-america-tour/
ATTACH;FMTTYPE=image/jpeg:https://www.hotelcommonwealth.com/wp-content/uploads/2023/02/House-of-Blues.jpg
END:VEVENT
BEGIN:VEVENT
DTSTART;TZID=UTC:20250816T193000
DTEND;TZID=UTC:20250816T193000
DTSTAMP:20260420T040825
CREATED:20250325T205658Z
LAST-MODIFIED:20250325T210414Z
UID:81337-1755372600-1755372600@www.hotelcommonwealth.com
SUMMARY:The Black Keys: No Rain\, No Flowers
DESCRIPTION:MGM Music Hall at Fenway
URL:https://www.hotelcommonwealth.com/event/the-black-keys-no-rain-no-flowers/
ATTACH;FMTTYPE=image/jpeg:https://www.hotelcommonwealth.com/wp-content/uploads/2023/02/MGM-scaled.jpg
END:VEVENT
BEGIN:VEVENT
DTSTART;TZID=UTC:20250817T080000
DTEND;TZID=UTC:20250817T080000
DTSTAMP:20260420T040825
CREATED:20250509T145439Z
LAST-MODIFIED:20250509T145440Z
UID:81804-1755417600-1755417600@www.hotelcommonwealth.com
SUMMARY:Open Newbury Street
DESCRIPTION:
URL:https://www.hotelcommonwealth.com/event/open-newbury-street-15/
ATTACH;FMTTYPE=image/jpeg:https://www.hotelcommonwealth.com/wp-content/uploads/2024/06/IMG_0044-e1719509703665.jpg
END:VEVENT
BEGIN:VEVENT
DTSTART;TZID=UTC:20250817T133500
DTEND;TZID=UTC:20250817T133500
DTSTAMP:20260420T040825
CREATED:20250109T185248Z
LAST-MODIFIED:20250109T185248Z
UID:81024-1755437700-1755437700@www.hotelcommonwealth.com
SUMMARY:Red Sox Vs. Miami Marlins
DESCRIPTION:Fenway Park
URL:https://www.hotelcommonwealth.com/event/red-sox-vs-miami-marlins-3/
ATTACH;FMTTYPE=image/jpeg:https://www.hotelcommonwealth.com/wp-content/uploads/2023/02/Red-Sox.jpg
END:VEVENT
BEGIN:VEVENT
DTSTART;TZID=UTC:20250818T190000
DTEND;TZID=UTC:20250818T190000
DTSTAMP:20260420T040825
CREATED:20250505T160729Z
LAST-MODIFIED:20250505T160730Z
UID:81726-1755543600-1755543600@www.hotelcommonwealth.com
SUMMARY:Fitz and the Tantrums: Man on the Moon Tour
DESCRIPTION:House of Blues
URL:https://www.hotelcommonwealth.com/event/fitz-and-the-tantrums-man-on-the-moon-tour/
ATTACH;FMTTYPE=image/jpeg:https://www.hotelcommonwealth.com/wp-content/uploads/2023/02/House-of-Blues.jpg
END:VEVENT
BEGIN:VEVENT
DTSTART;TZID=UTC:20250818T191000
DTEND;TZID=UTC:20250818T191000
DTSTAMP:20260420T040825
CREATED:20250109T185310Z
LAST-MODIFIED:20250109T185310Z
UID:81026-1755544200-1755544200@www.hotelcommonwealth.com
SUMMARY:Red Sox Vs. Baltimore Orioles
DESCRIPTION:Fenway Park
URL:https://www.hotelcommonwealth.com/event/red-sox-vs-baltimore-orioles-7/
ATTACH;FMTTYPE=image/jpeg:https://www.hotelcommonwealth.com/wp-content/uploads/2023/02/Red-Sox.jpg
END:VEVENT
BEGIN:VEVENT
DTSTART;TZID=UTC:20250819T191000
DTEND;TZID=UTC:20250819T191000
DTSTAMP:20260420T040825
CREATED:20250113T183011Z
LAST-MODIFIED:20250113T183012Z
UID:81042-1755630600-1755630600@www.hotelcommonwealth.com
SUMMARY:Red Sox vs. Baltimore Orioles
DESCRIPTION:Fenway Park
URL:https://www.hotelcommonwealth.com/event/red-sox-vs-baltimore-orioles-8/
ATTACH;FMTTYPE=image/jpeg:https://www.hotelcommonwealth.com/wp-content/uploads/2023/02/Red-Sox.jpg
END:VEVENT
BEGIN:VEVENT
DTSTART;TZID=UTC:20250821T200000
DTEND;TZID=UTC:20250821T200000
DTSTAMP:20260420T040825
CREATED:20250502T155314Z
LAST-MODIFIED:20250502T155314Z
UID:81639-1755806400-1755806400@www.hotelcommonwealth.com
SUMMARY:Widespread Panic
DESCRIPTION:MGM Music Hall at Fenway
URL:https://www.hotelcommonwealth.com/event/widespread-panic/
ATTACH;FMTTYPE=image/jpeg:https://www.hotelcommonwealth.com/wp-content/uploads/2023/02/MGM-scaled.jpg
END:VEVENT
BEGIN:VEVENT
DTSTART;TZID=UTC:20250822T200000
DTEND;TZID=UTC:20250822T200000
DTSTAMP:20260420T040825
CREATED:20250502T155826Z
LAST-MODIFIED:20250502T155827Z
UID:81641-1755892800-1755892800@www.hotelcommonwealth.com
SUMMARY:Widespread Panic
DESCRIPTION:MGM Music Hall at Fenway
URL:https://www.hotelcommonwealth.com/event/widespread-panic-2/
ATTACH;FMTTYPE=image/jpeg:https://www.hotelcommonwealth.com/wp-content/uploads/2023/02/MGM-scaled.jpg
END:VEVENT
BEGIN:VEVENT
DTSTART;TZID=UTC:20250823T193000
DTEND;TZID=UTC:20250823T193000
DTSTAMP:20260420T040825
CREATED:20250324T143039Z
LAST-MODIFIED:20250324T143040Z
UID:81273-1755977400-1755977400@www.hotelcommonwealth.com
SUMMARY:the Jonas Brothers at Fenway Park
DESCRIPTION:Fenway Park
URL:https://www.hotelcommonwealth.com/event/the-jonas-brothers-at-fenway-park/
ATTACH;FMTTYPE=image/jpeg:https://www.hotelcommonwealth.com/wp-content/uploads/2023/02/Fenway-scaled.jpg
END:VEVENT
BEGIN:VEVENT
DTSTART;TZID=UTC:20250823T200000
DTEND;TZID=UTC:20250823T200000
DTSTAMP:20260420T040825
CREATED:20250502T155850Z
LAST-MODIFIED:20250502T155851Z
UID:81643-1755979200-1755979200@www.hotelcommonwealth.com
SUMMARY:Widespread Panic
DESCRIPTION:MGM Music Hall at Fenway
URL:https://www.hotelcommonwealth.com/event/widespread-panic-3/
ATTACH;FMTTYPE=image/jpeg:https://www.hotelcommonwealth.com/wp-content/uploads/2023/02/MGM-scaled.jpg
END:VEVENT
BEGIN:VEVENT
DTSTART;TZID=UTC:20250824T080000
DTEND;TZID=UTC:20250824T080000
DTSTAMP:20260420T040825
CREATED:20250509T145452Z
LAST-MODIFIED:20250509T145452Z
UID:81806-1756022400-1756022400@www.hotelcommonwealth.com
SUMMARY:Open Newbury Street
DESCRIPTION:
URL:https://www.hotelcommonwealth.com/event/open-newbury-street-16/
ATTACH;FMTTYPE=image/jpeg:https://www.hotelcommonwealth.com/wp-content/uploads/2024/06/IMG_0044-e1719509703665.jpg
END:VEVENT
BEGIN:VEVENT
DTSTART;TZID=UTC:20250824T190000
DTEND;TZID=UTC:20250824T190000
DTSTAMP:20260420T040825
CREATED:20250502T160725Z
LAST-MODIFIED:20251201T152534Z
UID:81645-1756062000-1756062000@www.hotelcommonwealth.com
SUMMARY:Chevelle with special guests Asking Alexandria and Dead Poet Society
DESCRIPTION:MGM Music Hall at Fenway
URL:https://www.hotelcommonwealth.com/event/chevelle-with-special-guests-asking-alexandria-and-dead-poet-society/
ATTACH;FMTTYPE=image/jpeg:https://www.hotelcommonwealth.com/wp-content/uploads/2023/02/MGM-scaled.jpg
END:VEVENT
BEGIN:VEVENT
DTSTART;TZID=UTC:20250825T193000
DTEND;TZID=UTC:20250825T193000
DTSTAMP:20260420T040825
CREATED:20250327T163715Z
LAST-MODIFIED:20250327T163715Z
UID:81361-1756150200-1756150200@www.hotelcommonwealth.com
SUMMARY:Chris Brown at Fenway Park
DESCRIPTION:Fenway Park
URL:https://www.hotelcommonwealth.com/event/chris-brown-at-fenway-park/
ATTACH;FMTTYPE=image/jpeg:https://www.hotelcommonwealth.com/wp-content/uploads/2023/02/Fenway-scaled.jpg
END:VEVENT
BEGIN:VEVENT
DTSTART;TZID=UTC:20250825T200000
DTEND;TZID=UTC:20250825T200000
DTSTAMP:20260420T040825
CREATED:20250505T154528Z
LAST-MODIFIED:20250505T154529Z
UID:81649-1756152000-1756152000@www.hotelcommonwealth.com
SUMMARY:RuPaul's Drag Race Werq The World Tour 2025
DESCRIPTION:MGM Music Hall at Fenway
URL:https://www.hotelcommonwealth.com/event/rupauls-drag-race-werq-the-world-tour-2025/
ATTACH;FMTTYPE=image/jpeg:https://www.hotelcommonwealth.com/wp-content/uploads/2023/02/MGM-scaled.jpg
END:VEVENT
BEGIN:VEVENT
DTSTART;TZID=UTC:20250826T193000
DTEND;TZID=UTC:20250826T193000
DTSTAMP:20260420T040825
CREATED:20250505T154556Z
LAST-MODIFIED:20250505T154557Z
UID:81651-1756236600-1756236600@www.hotelcommonwealth.com
SUMMARY:James Taylor
DESCRIPTION:MGM Music Hall at Fenway
URL:https://www.hotelcommonwealth.com/event/james-taylor-3/
ATTACH;FMTTYPE=image/jpeg:https://www.hotelcommonwealth.com/wp-content/uploads/2023/02/MGM-scaled.jpg
END:VEVENT
BEGIN:VEVENT
DTSTART;TZID=UTC:20250827T193000
DTEND;TZID=UTC:20250827T193000
DTSTAMP:20260420T040825
CREATED:20250505T154611Z
LAST-MODIFIED:20250505T154612Z
UID:81653-1756323000-1756323000@www.hotelcommonwealth.com
SUMMARY:James Taylor
DESCRIPTION:MGM Music Hall at Fenway
URL:https://www.hotelcommonwealth.com/event/james-taylor-4/
ATTACH;FMTTYPE=image/jpeg:https://www.hotelcommonwealth.com/wp-content/uploads/2023/02/MGM-scaled.jpg
END:VEVENT
END:VCALENDAR