BEGIN:VCALENDAR
VERSION:2.0
PRODID:-//Hotel Commonwealth - ECPv5.14.1//NONSGML v1.0//EN
CALSCALE:GREGORIAN
METHOD:PUBLISH
X-WR-CALNAME:Hotel Commonwealth
X-ORIGINAL-URL:https://www.hotelcommonwealth.com
X-WR-CALDESC:Events for Hotel Commonwealth
REFRESH-INTERVAL;VALUE=DURATION:PT1H
X-Robots-Tag:noindex
X-PUBLISHED-TTL:PT1H
BEGIN:VTIMEZONE
TZID:UTC
BEGIN:STANDARD
TZOFFSETFROM:+0000
TZOFFSETTO:+0000
TZNAME:UTC
DTSTART:20250101T000000
END:STANDARD
END:VTIMEZONE
BEGIN:VEVENT
DTSTART;TZID=UTC:20250901T133500
DTEND;TZID=UTC:20250901T133500
DTSTAMP:20260419T143331
CREATED:20250113T183159Z
LAST-MODIFIED:20250113T183200Z
UID:81050-1756733700-1756733700@www.hotelcommonwealth.com
SUMMARY:Red Sox vs. Cleveland Guardians
DESCRIPTION:Fenway Park
URL:https://www.hotelcommonwealth.com/event/red-sox-vs-cleveland-guardians/
ATTACH;FMTTYPE=image/jpeg:https://www.hotelcommonwealth.com/wp-content/uploads/2023/02/Red-Sox.jpg
END:VEVENT
BEGIN:VEVENT
DTSTART;TZID=UTC:20250902T184500
DTEND;TZID=UTC:20250902T184500
DTSTAMP:20260419T143331
CREATED:20250113T184443Z
LAST-MODIFIED:20250113T184444Z
UID:81052-1756838700-1756838700@www.hotelcommonwealth.com
SUMMARY:Red Sox vs. Cleveland Guardians
DESCRIPTION:Fenway Park
URL:https://www.hotelcommonwealth.com/event/red-sox-vs-cleveland-guardians-2/
ATTACH;FMTTYPE=image/jpeg:https://www.hotelcommonwealth.com/wp-content/uploads/2023/02/Red-Sox.jpg
END:VEVENT
BEGIN:VEVENT
DTSTART;TZID=UTC:20250902T190000
DTEND;TZID=UTC:20250902T190000
DTSTAMP:20260419T143331
CREATED:20250325T204736Z
LAST-MODIFIED:20250325T204944Z
UID:81318-1756839600-1756839600@www.hotelcommonwealth.com
SUMMARY:Boulet Brothers' Dragula: Season 666 Tour
DESCRIPTION:House of Blues
URL:https://www.hotelcommonwealth.com/event/boulet-brothers-dragula-season-666-tour/
ATTACH;FMTTYPE=image/jpeg:https://www.hotelcommonwealth.com/wp-content/uploads/2023/02/House-of-Blues.jpg
END:VEVENT
BEGIN:VEVENT
DTSTART;TZID=UTC:20250903T184500
DTEND;TZID=UTC:20250903T184500
DTSTAMP:20260419T143331
CREATED:20250113T184459Z
LAST-MODIFIED:20250113T184500Z
UID:81054-1756925100-1756925100@www.hotelcommonwealth.com
SUMMARY:Red Sox vs. Cleveland Guardians
DESCRIPTION:Fenway Park
URL:https://www.hotelcommonwealth.com/event/red-sox-vs-cleveland-guardians-3/
ATTACH;FMTTYPE=image/jpeg:https://www.hotelcommonwealth.com/wp-content/uploads/2023/02/Red-Sox.jpg
END:VEVENT
BEGIN:VEVENT
DTSTART;TZID=UTC:20250903T200000
DTEND;TZID=UTC:20250903T200000
DTSTAMP:20260419T143331
CREATED:20250505T154733Z
LAST-MODIFIED:20250505T154734Z
UID:81659-1756929600-1756929600@www.hotelcommonwealth.com
SUMMARY:Eladio Carrión - DON KBRN World Tour
DESCRIPTION:MGM Music Hall at Fenway
URL:https://www.hotelcommonwealth.com/event/eladio-carrion-don-kbrn-world-tour/
ATTACH;FMTTYPE=image/jpeg:https://www.hotelcommonwealth.com/wp-content/uploads/2023/02/MGM-scaled.jpg
END:VEVENT
BEGIN:VEVENT
DTSTART;TZID=UTC:20250904T190000
DTEND;TZID=UTC:20250904T190000
DTSTAMP:20260419T143331
CREATED:20250505T160814Z
LAST-MODIFIED:20250505T160814Z
UID:81728-1757012400-1757012400@www.hotelcommonwealth.com
SUMMARY:Kruder & Dorfmeister play the K&D Sessions Live
DESCRIPTION:House of Blues
URL:https://www.hotelcommonwealth.com/event/kruder-dorfmeister-play-the-kd-sessions-live/
ATTACH;FMTTYPE=image/jpeg:https://www.hotelcommonwealth.com/wp-content/uploads/2023/02/House-of-Blues.jpg
END:VEVENT
BEGIN:VEVENT
DTSTART;TZID=UTC:20250905T200000
DTEND;TZID=UTC:20250905T200000
DTSTAMP:20260419T143331
CREATED:20250509T175817Z
LAST-MODIFIED:20250509T175817Z
UID:81823-1757102400-1757102400@www.hotelcommonwealth.com
SUMMARY:Quinn XCII - LOOK! I'm Alive Tour
DESCRIPTION:MGM Music Hall at Fenway
URL:https://www.hotelcommonwealth.com/event/quinn-xcii-look-im-alive-tour/
ATTACH;FMTTYPE=image/jpeg:https://www.hotelcommonwealth.com/wp-content/uploads/2023/02/MGM-scaled.jpg
END:VEVENT
BEGIN:VEVENT
DTSTART;TZID=UTC:20250907T080000
DTEND;TZID=UTC:20250907T080000
DTSTAMP:20260419T143331
CREATED:20250509T145524Z
LAST-MODIFIED:20250509T145524Z
UID:81810-1757232000-1757232000@www.hotelcommonwealth.com
SUMMARY:Open Newbury Street
DESCRIPTION:
URL:https://www.hotelcommonwealth.com/event/open-newbury-street-18/
ATTACH;FMTTYPE=image/jpeg:https://www.hotelcommonwealth.com/wp-content/uploads/2024/06/IMG_0044-e1719509703665.jpg
END:VEVENT
BEGIN:VEVENT
DTSTART;TZID=UTC:20250907T193000
DTEND;TZID=UTC:20250907T193000
DTSTAMP:20260419T143331
CREATED:20241112T193529Z
LAST-MODIFIED:20241112T193529Z
UID:80011-1757273400-1757273400@www.hotelcommonwealth.com
SUMMARY:My Chemical Romance at Fenway Park
DESCRIPTION:Fenway Park
URL:https://www.hotelcommonwealth.com/event/my-chemical-romance-at-fenway-park/
ATTACH;FMTTYPE=image/jpeg:https://www.hotelcommonwealth.com/wp-content/uploads/2023/02/Fenway-scaled.jpg
END:VEVENT
BEGIN:VEVENT
DTSTART;TZID=UTC:20250907T200000
DTEND;TZID=UTC:20250907T200000
DTSTAMP:20260419T143331
CREATED:20250505T154750Z
LAST-MODIFIED:20250505T154751Z
UID:81661-1757275200-1757275200@www.hotelcommonwealth.com
SUMMARY:Rilo Kiley: REALLY F**KING ON TOUR
DESCRIPTION:MGM Music Hall at Fenway
URL:https://www.hotelcommonwealth.com/event/rilo-kiley-really-fking-on-tour/
ATTACH;FMTTYPE=image/jpeg:https://www.hotelcommonwealth.com/wp-content/uploads/2023/02/MGM-scaled.jpg
END:VEVENT
BEGIN:VEVENT
DTSTART;TZID=UTC:20250909T193000
DTEND;TZID=UTC:20250909T193000
DTSTAMP:20260419T143331
CREATED:20250325T205813Z
LAST-MODIFIED:20250325T210201Z
UID:81339-1757446200-1757446200@www.hotelcommonwealth.com
SUMMARY:The Teskey Brothers - USA Tour 2025
DESCRIPTION:MGM Music Hall at Fenway
URL:https://www.hotelcommonwealth.com/event/the-teskey-brothers-usa-tour-2025/
ATTACH;FMTTYPE=image/jpeg:https://www.hotelcommonwealth.com/wp-content/uploads/2023/02/MGM-scaled.jpg
END:VEVENT
BEGIN:VEVENT
DTSTART;TZID=UTC:20250911T190000
DTEND;TZID=UTC:20250911T190000
DTSTAMP:20260419T143331
CREATED:20250505T160831Z
LAST-MODIFIED:20250505T160831Z
UID:81730-1757617200-1757617200@www.hotelcommonwealth.com
SUMMARY:Bruce Dickinson
DESCRIPTION:House of Blues
URL:https://www.hotelcommonwealth.com/event/bruce-dickinson/
ATTACH;FMTTYPE=image/jpeg:https://www.hotelcommonwealth.com/wp-content/uploads/2023/02/House-of-Blues.jpg
END:VEVENT
BEGIN:VEVENT
DTSTART;TZID=UTC:20250912T191000
DTEND;TZID=UTC:20250912T191000
DTSTAMP:20260419T143331
CREATED:20250113T184545Z
LAST-MODIFIED:20250113T184545Z
UID:81056-1757704200-1757704200@www.hotelcommonwealth.com
SUMMARY:Red Sox vs. New York Yankees
DESCRIPTION:Fenway Park
URL:https://www.hotelcommonwealth.com/event/red-sox-vs-new-york-yankees-4/
ATTACH;FMTTYPE=image/jpeg:https://www.hotelcommonwealth.com/wp-content/uploads/2023/02/Red-Sox.jpg
END:VEVENT
BEGIN:VEVENT
DTSTART;TZID=UTC:20250912T200000
DTEND;TZID=UTC:20250912T200000
DTSTAMP:20260419T143331
CREATED:20250505T154824Z
LAST-MODIFIED:20250505T154825Z
UID:81663-1757707200-1757707200@www.hotelcommonwealth.com
SUMMARY:SUPERGRASS: I SHOULD COCO | 30TH ANNIVERSARY TOUR
DESCRIPTION:MGM Music Hall at Fenway
URL:https://www.hotelcommonwealth.com/event/supergrass-i-should-coco-30th-anniversary-tour/
ATTACH;FMTTYPE=image/jpeg:https://www.hotelcommonwealth.com/wp-content/uploads/2023/02/MGM-scaled.jpg
END:VEVENT
BEGIN:VEVENT
DTSTART;TZID=UTC:20250913T161000
DTEND;TZID=UTC:20250913T161000
DTSTAMP:20260419T143331
CREATED:20250113T184611Z
LAST-MODIFIED:20250113T184612Z
UID:81058-1757779800-1757779800@www.hotelcommonwealth.com
SUMMARY:Red Sox vs. New York Yankees
DESCRIPTION:Fenway Park
URL:https://www.hotelcommonwealth.com/event/red-sox-vs-new-york-yankees-5/
ATTACH;FMTTYPE=image/jpeg:https://www.hotelcommonwealth.com/wp-content/uploads/2023/02/Red-Sox.jpg
END:VEVENT
BEGIN:VEVENT
DTSTART;TZID=UTC:20250913T190000
DTEND;TZID=UTC:20250913T190000
DTSTAMP:20260419T143331
CREATED:20250509T174342Z
LAST-MODIFIED:20250509T174356Z
UID:81818-1757790000-1757790000@www.hotelcommonwealth.com
SUMMARY:Big Wild - Wild Child Tour
DESCRIPTION:House of Blues
URL:https://www.hotelcommonwealth.com/event/big-wild-wild-child-tour/
ATTACH;FMTTYPE=image/jpeg:https://www.hotelcommonwealth.com/wp-content/uploads/2023/02/House-of-Blues.jpg
END:VEVENT
BEGIN:VEVENT
DTSTART;TZID=UTC:20250913T193000
DTEND;TZID=UTC:20250913T193000
DTSTAMP:20260419T143331
CREATED:20250528T164439Z
LAST-MODIFIED:20250528T164439Z
UID:81866-1757791800-1757791800@www.hotelcommonwealth.com
SUMMARY:Dwight Yoakam
DESCRIPTION:MGM Music Hall at Fenway
URL:https://www.hotelcommonwealth.com/event/dwight-yoakam/
ATTACH;FMTTYPE=image/jpeg:https://www.hotelcommonwealth.com/wp-content/uploads/2023/02/MGM-scaled.jpg
END:VEVENT
BEGIN:VEVENT
DTSTART;TZID=UTC:20250914T080000
DTEND;TZID=UTC:20250914T080000
DTSTAMP:20260419T143331
CREATED:20250509T145537Z
LAST-MODIFIED:20250509T145537Z
UID:81812-1757836800-1757836800@www.hotelcommonwealth.com
SUMMARY:Open Newbury Street
DESCRIPTION:
URL:https://www.hotelcommonwealth.com/event/open-newbury-street-19/
ATTACH;FMTTYPE=image/jpeg:https://www.hotelcommonwealth.com/wp-content/uploads/2024/06/IMG_0044-e1719509703665.jpg
END:VEVENT
BEGIN:VEVENT
DTSTART;TZID=UTC:20250914T133500
DTEND;TZID=UTC:20250914T133500
DTSTAMP:20260419T143331
CREATED:20250113T184641Z
LAST-MODIFIED:20250113T184642Z
UID:81060-1757856900-1757856900@www.hotelcommonwealth.com
SUMMARY:Red Sox vs. New York Yankees
DESCRIPTION:Fenway Park
URL:https://www.hotelcommonwealth.com/event/red-sox-vs-new-york-yankees-6/
ATTACH;FMTTYPE=image/jpeg:https://www.hotelcommonwealth.com/wp-content/uploads/2023/02/Red-Sox.jpg
END:VEVENT
BEGIN:VEVENT
DTSTART;TZID=UTC:20250914T200000
DTEND;TZID=UTC:20250914T200000
DTSTAMP:20260419T143331
CREATED:20250505T154845Z
LAST-MODIFIED:20250505T154845Z
UID:81665-1757880000-1757880000@www.hotelcommonwealth.com
SUMMARY:Alabama Shakes
DESCRIPTION:MGM Music Hall at Fenway
URL:https://www.hotelcommonwealth.com/event/alabama-shakes/
ATTACH;FMTTYPE=image/jpeg:https://www.hotelcommonwealth.com/wp-content/uploads/2023/02/MGM-scaled.jpg
END:VEVENT
BEGIN:VEVENT
DTSTART;TZID=UTC:20250915T200000
DTEND;TZID=UTC:20250915T200000
DTSTAMP:20260419T143331
CREATED:20250505T154900Z
LAST-MODIFIED:20250505T154900Z
UID:81667-1757966400-1757966400@www.hotelcommonwealth.com
SUMMARY:Alabama Shakes
DESCRIPTION:MGM Music Hall at Fenway
URL:https://www.hotelcommonwealth.com/event/alabama-shakes-2/
ATTACH;FMTTYPE=image/jpeg:https://www.hotelcommonwealth.com/wp-content/uploads/2023/02/MGM-scaled.jpg
END:VEVENT
BEGIN:VEVENT
DTSTART;TZID=UTC:20250916T184500
DTEND;TZID=UTC:20250916T184500
DTSTAMP:20260419T143331
CREATED:20250113T184802Z
LAST-MODIFIED:20250113T184802Z
UID:81062-1758048300-1758048300@www.hotelcommonwealth.com
SUMMARY:Red Sox vs. Athletics
DESCRIPTION:Fenway Park
URL:https://www.hotelcommonwealth.com/event/red-sox-vs-athletics/
ATTACH;FMTTYPE=image/jpeg:https://www.hotelcommonwealth.com/wp-content/uploads/2023/02/Red-Sox.jpg
END:VEVENT
BEGIN:VEVENT
DTSTART;TZID=UTC:20250916T190000
DTEND;TZID=UTC:20250916T190000
DTSTAMP:20260419T143331
CREATED:20250505T160905Z
LAST-MODIFIED:20250505T160905Z
UID:81732-1758049200-1758049200@www.hotelcommonwealth.com
SUMMARY:berlioz (live)
DESCRIPTION:House of Blues
URL:https://www.hotelcommonwealth.com/event/berlioz-live/
ATTACH;FMTTYPE=image/jpeg:https://www.hotelcommonwealth.com/wp-content/uploads/2023/02/House-of-Blues.jpg
END:VEVENT
BEGIN:VEVENT
DTSTART;TZID=UTC:20250917T184500
DTEND;TZID=UTC:20250917T184500
DTSTAMP:20260419T143331
CREATED:20250113T184816Z
LAST-MODIFIED:20250113T184816Z
UID:81064-1758134700-1758134700@www.hotelcommonwealth.com
SUMMARY:Red Sox vs. Athletics
DESCRIPTION:Fenway Park
URL:https://www.hotelcommonwealth.com/event/red-sox-vs-athletics-2/
ATTACH;FMTTYPE=image/jpeg:https://www.hotelcommonwealth.com/wp-content/uploads/2023/02/Red-Sox.jpg
END:VEVENT
BEGIN:VEVENT
DTSTART;TZID=UTC:20250918T133500
DTEND;TZID=UTC:20250918T133500
DTSTAMP:20260419T143331
CREATED:20250113T184841Z
LAST-MODIFIED:20250113T184842Z
UID:81066-1758202500-1758202500@www.hotelcommonwealth.com
SUMMARY:Red Sox vs. Athletics
DESCRIPTION:Fenway Park
URL:https://www.hotelcommonwealth.com/event/red-sox-vs-athletics-3/
ATTACH;FMTTYPE=image/jpeg:https://www.hotelcommonwealth.com/wp-content/uploads/2023/02/Red-Sox.jpg
END:VEVENT
BEGIN:VEVENT
DTSTART;TZID=UTC:20250919T190000
DTEND;TZID=UTC:20250919T190000
DTSTAMP:20260419T143331
CREATED:20250505T154928Z
LAST-MODIFIED:20250505T154928Z
UID:81669-1758308400-1758308400@www.hotelcommonwealth.com
SUMMARY:Billy Currington & Kip Moore
DESCRIPTION:MGM Music Hall at Fenway
URL:https://www.hotelcommonwealth.com/event/billy-currington-kip-moore/
ATTACH;FMTTYPE=image/jpeg:https://www.hotelcommonwealth.com/wp-content/uploads/2023/02/MGM-scaled.jpg
END:VEVENT
BEGIN:VEVENT
DTSTART;TZID=UTC:20250919T190000
DTEND;TZID=UTC:20250919T190000
DTSTAMP:20260419T143331
CREATED:20250509T174434Z
LAST-MODIFIED:20250509T174435Z
UID:81821-1758308400-1758308400@www.hotelcommonwealth.com
SUMMARY:Soccer Mommy
DESCRIPTION:House of Blues
URL:https://www.hotelcommonwealth.com/event/soccer-mommy/
ATTACH;FMTTYPE=image/jpeg:https://www.hotelcommonwealth.com/wp-content/uploads/2023/02/House-of-Blues.jpg
END:VEVENT
BEGIN:VEVENT
DTSTART;TZID=UTC:20250921T080000
DTEND;TZID=UTC:20250921T080000
DTSTAMP:20260419T143331
CREATED:20250509T145552Z
LAST-MODIFIED:20250509T145552Z
UID:81814-1758441600-1758441600@www.hotelcommonwealth.com
SUMMARY:Open Newbury Street
DESCRIPTION:
URL:https://www.hotelcommonwealth.com/event/open-newbury-street-20/
ATTACH;FMTTYPE=image/jpeg:https://www.hotelcommonwealth.com/wp-content/uploads/2024/06/IMG_0044-e1719509703665.jpg
END:VEVENT
BEGIN:VEVENT
DTSTART;TZID=UTC:20250921T190000
DTEND;TZID=UTC:20250921T190000
DTSTAMP:20260419T143331
CREATED:20250505T160927Z
LAST-MODIFIED:20250505T160928Z
UID:81734-1758481200-1758481200@www.hotelcommonwealth.com
SUMMARY:Shoreline Mafia: Back In Bidness Tour
DESCRIPTION:House of Blues
URL:https://www.hotelcommonwealth.com/event/shoreline-mafia-back-in-bidness-tour/
ATTACH;FMTTYPE=image/jpeg:https://www.hotelcommonwealth.com/wp-content/uploads/2023/02/House-of-Blues.jpg
END:VEVENT
BEGIN:VEVENT
DTSTART;TZID=UTC:20250922T200000
DTEND;TZID=UTC:20250922T200000
DTSTAMP:20260419T143331
CREATED:20250505T154952Z
LAST-MODIFIED:20251201T152401Z
UID:81671-1758571200-1758571200@www.hotelcommonwealth.com
SUMMARY:Elvis Costello & The Imposters with Charlie Sexton
DESCRIPTION:MGM Music Hall at Fenway
URL:https://www.hotelcommonwealth.com/event/elvis-costello-the-imposters-with-charlie-sexton/
ATTACH;FMTTYPE=image/jpeg:https://www.hotelcommonwealth.com/wp-content/uploads/2023/02/MGM-scaled.jpg
END:VEVENT
END:VCALENDAR