BEGIN:VCALENDAR
VERSION:2.0
PRODID:-//Hotel Commonwealth - ECPv5.14.1//NONSGML v1.0//EN
CALSCALE:GREGORIAN
METHOD:PUBLISH
X-WR-CALNAME:Hotel Commonwealth
X-ORIGINAL-URL:https://www.hotelcommonwealth.com
X-WR-CALDESC:Events for Hotel Commonwealth
REFRESH-INTERVAL;VALUE=DURATION:PT1H
X-Robots-Tag:noindex
X-PUBLISHED-TTL:PT1H
BEGIN:VTIMEZONE
TZID:UTC
BEGIN:STANDARD
TZOFFSETFROM:+0000
TZOFFSETTO:+0000
TZNAME:UTC
DTSTART:20250101T000000
END:STANDARD
END:VTIMEZONE
BEGIN:VEVENT
DTSTART;TZID=UTC:20250928T190000
DTEND;TZID=UTC:20250928T190000
DTSTAMP:20260420T065858
CREATED:20250325T204806Z
LAST-MODIFIED:20250325T204806Z
UID:81320-1759086000-1759086000@www.hotelcommonwealth.com
SUMMARY:Matt Maltese: Tour For You My Whole Life
DESCRIPTION:House of Blues
URL:https://www.hotelcommonwealth.com/event/matt-maltese-tour-for-you-my-whole-life/
ATTACH;FMTTYPE=image/jpeg:https://www.hotelcommonwealth.com/wp-content/uploads/2023/02/House-of-Blues.jpg
END:VEVENT
BEGIN:VEVENT
DTSTART;TZID=UTC:20251001T200000
DTEND;TZID=UTC:20251001T200000
DTSTAMP:20260420T065858
CREATED:20250505T155046Z
LAST-MODIFIED:20250505T155046Z
UID:81675-1759348800-1759348800@www.hotelcommonwealth.com
SUMMARY:Kevin Gates - The Amilio Tour
DESCRIPTION:MGM Music Hall at Fenway
URL:https://www.hotelcommonwealth.com/event/kevin-gates-the-amilio-tour/
ATTACH;FMTTYPE=image/jpeg:https://www.hotelcommonwealth.com/wp-content/uploads/2023/02/MGM-scaled.jpg
END:VEVENT
BEGIN:VEVENT
DTSTART;TZID=UTC:20251002T183000
DTEND;TZID=UTC:20251002T183000
DTSTAMP:20260420T065858
CREATED:20250505T161024Z
LAST-MODIFIED:20250505T161025Z
UID:81738-1759429800-1759429800@www.hotelcommonwealth.com
SUMMARY:Flatland Cavalry: Flatland Forever(more) Tour
DESCRIPTION:House of Blues
URL:https://www.hotelcommonwealth.com/event/flatland-cavalry-flatland-forevermore-tour/
ATTACH;FMTTYPE=image/jpeg:https://www.hotelcommonwealth.com/wp-content/uploads/2023/02/House-of-Blues.jpg
END:VEVENT
BEGIN:VEVENT
DTSTART;TZID=UTC:20251003T190000
DTEND;TZID=UTC:20251003T190000
DTSTAMP:20260420T065858
CREATED:20250505T155118Z
LAST-MODIFIED:20250505T155118Z
UID:81677-1759518000-1759518000@www.hotelcommonwealth.com
SUMMARY:Jordan Davis: Ain't Enough Road Tour 2025
DESCRIPTION:MGM Music Hall at Fenway
URL:https://www.hotelcommonwealth.com/event/jordan-davis-aint-enough-road-tour-2025/
ATTACH;FMTTYPE=image/jpeg:https://www.hotelcommonwealth.com/wp-content/uploads/2023/02/MGM-scaled.jpg
END:VEVENT
BEGIN:VEVENT
DTSTART;TZID=UTC:20251008T190000
DTEND;TZID=UTC:20251008T190000
DTSTAMP:20260420T065858
CREATED:20250505T161051Z
LAST-MODIFIED:20250505T161052Z
UID:81740-1759950000-1759950000@www.hotelcommonwealth.com
SUMMARY:Black Rebel Motorcycle Club
DESCRIPTION:House of Blues
URL:https://www.hotelcommonwealth.com/event/black-rebel-motorcycle-club/
ATTACH;FMTTYPE=image/jpeg:https://www.hotelcommonwealth.com/wp-content/uploads/2023/02/House-of-Blues.jpg
END:VEVENT
BEGIN:VEVENT
DTSTART;TZID=UTC:20251010T200000
DTEND;TZID=UTC:20251010T200000
DTSTAMP:20260420T065858
CREATED:20250509T175932Z
LAST-MODIFIED:20250509T175933Z
UID:81825-1760126400-1760126400@www.hotelcommonwealth.com
SUMMARY:Royel Otis meet me in the car tour
DESCRIPTION:MGM Music Hall at Fenway
URL:https://www.hotelcommonwealth.com/event/royel-otis-meet-me-in-the-car-tour/
ATTACH;FMTTYPE=image/jpeg:https://www.hotelcommonwealth.com/wp-content/uploads/2023/02/MGM-scaled.jpg
END:VEVENT
BEGIN:VEVENT
DTSTART;TZID=UTC:20251011T200000
DTEND;TZID=UTC:20251011T200000
DTSTAMP:20260420T065858
CREATED:20250505T155136Z
LAST-MODIFIED:20250505T155137Z
UID:81679-1760212800-1760212800@www.hotelcommonwealth.com
SUMMARY:Kneecap
DESCRIPTION:MGM Music Hall at Fenway
URL:https://www.hotelcommonwealth.com/event/kneecap/
ATTACH;FMTTYPE=image/jpeg:https://www.hotelcommonwealth.com/wp-content/uploads/2023/02/MGM-scaled.jpg
END:VEVENT
BEGIN:VEVENT
DTSTART;TZID=UTC:20251013T200000
DTEND;TZID=UTC:20251013T200000
DTSTAMP:20260420T065858
CREATED:20250505T155159Z
LAST-MODIFIED:20250505T155159Z
UID:81681-1760385600-1760385600@www.hotelcommonwealth.com
SUMMARY:MY MORNING JACKET "is" ON TOUR!
DESCRIPTION:MGM Music Hall at Fenway
URL:https://www.hotelcommonwealth.com/event/my-morning-jacket-is-on-tour/
ATTACH;FMTTYPE=image/jpeg:https://www.hotelcommonwealth.com/wp-content/uploads/2023/02/MGM-scaled.jpg
END:VEVENT
BEGIN:VEVENT
DTSTART;TZID=UTC:20251016T190000
DTEND;TZID=UTC:20251016T190000
DTSTAMP:20260420T065858
CREATED:20250505T161115Z
LAST-MODIFIED:20250505T161116Z
UID:81742-1760641200-1760641200@www.hotelcommonwealth.com
SUMMARY:Yung Lean - Forever Yung Tour
DESCRIPTION:House of Blues
URL:https://www.hotelcommonwealth.com/event/yung-lean-forever-yung-tour/
ATTACH;FMTTYPE=image/jpeg:https://www.hotelcommonwealth.com/wp-content/uploads/2023/02/House-of-Blues.jpg
END:VEVENT
BEGIN:VEVENT
DTSTART;TZID=UTC:20251017T190000
DTEND;TZID=UTC:20251017T190000
DTSTAMP:20260420T065858
CREATED:20250505T161136Z
LAST-MODIFIED:20251201T152049Z
UID:81744-1760727600-1760727600@www.hotelcommonwealth.com
SUMMARY:Richy Mitch & The Coal Miners - Colorado's on Fire Again
DESCRIPTION:House of Blues
URL:https://www.hotelcommonwealth.com/event/richy-mitch-the-coal-miners-colorados-on-fire-again/
ATTACH;FMTTYPE=image/jpeg:https://www.hotelcommonwealth.com/wp-content/uploads/2023/02/House-of-Blues.jpg
END:VEVENT
BEGIN:VEVENT
DTSTART;TZID=UTC:20251017T193000
DTEND;TZID=UTC:20251017T193000
DTSTAMP:20260420T065858
CREATED:20250528T164535Z
LAST-MODIFIED:20250528T164535Z
UID:81870-1760729400-1760729400@www.hotelcommonwealth.com
SUMMARY:The Psychedelic Furs
DESCRIPTION:MGM Music Hall at Fenway
URL:https://www.hotelcommonwealth.com/event/the-psychedelic-furs/
ATTACH;FMTTYPE=image/jpeg:https://www.hotelcommonwealth.com/wp-content/uploads/2023/02/MGM-scaled.jpg
END:VEVENT
BEGIN:VEVENT
DTSTART;TZID=UTC:20251018T200000
DTEND;TZID=UTC:20251018T200000
DTSTAMP:20260420T065858
CREATED:20250505T155529Z
LAST-MODIFIED:20250505T155530Z
UID:81683-1760817600-1760817600@www.hotelcommonwealth.com
SUMMARY:2025 STAYC TOUR [STAY TUNED] in BOSTON
DESCRIPTION:MGM Music Hall at Fenway
URL:https://www.hotelcommonwealth.com/event/2025-stayc-tour-stay-tuned-in-boston/
ATTACH;FMTTYPE=image/jpeg:https://www.hotelcommonwealth.com/wp-content/uploads/2023/02/MGM-scaled.jpg
END:VEVENT
BEGIN:VEVENT
DTSTART;TZID=UTC:20251021T200000
DTEND;TZID=UTC:20251021T200000
DTSTAMP:20260420T065858
CREATED:20250509T180232Z
LAST-MODIFIED:20250509T180232Z
UID:81827-1761076800-1761076800@www.hotelcommonwealth.com
SUMMARY:Big Thief: Somersault Slide 360 Tour
DESCRIPTION:MGM Music Hall at Fenway
URL:https://www.hotelcommonwealth.com/event/big-thief-somersault-slide-360-tour/
ATTACH;FMTTYPE=image/jpeg:https://www.hotelcommonwealth.com/wp-content/uploads/2023/02/MGM-scaled.jpg
END:VEVENT
BEGIN:VEVENT
DTSTART;TZID=UTC:20251024T200000
DTEND;TZID=UTC:20251024T200000
DTSTAMP:20260420T065858
CREATED:20250505T155547Z
LAST-MODIFIED:20250505T155547Z
UID:81685-1761336000-1761336000@www.hotelcommonwealth.com
SUMMARY:Magdalena Bay: Imaginal Mystery Tour
DESCRIPTION:MGM Music Hall at Fenway
URL:https://www.hotelcommonwealth.com/event/magdalena-bay-imaginal-mystery-tour/
ATTACH;FMTTYPE=image/jpeg:https://www.hotelcommonwealth.com/wp-content/uploads/2023/02/MGM-scaled.jpg
END:VEVENT
BEGIN:VEVENT
DTSTART;TZID=UTC:20251025T190000
DTEND;TZID=UTC:20251025T190000
DTSTAMP:20260420T065858
CREATED:20250509T180438Z
LAST-MODIFIED:20250509T180438Z
UID:81829-1761418800-1761418800@www.hotelcommonwealth.com
SUMMARY:Mudvayne: L.D. 50 25th Anniversary Tour
DESCRIPTION:MGM Music Hall at Fenway
URL:https://www.hotelcommonwealth.com/event/mudvayne-l-d-50-25th-anniversary-tour/
ATTACH;FMTTYPE=image/jpeg:https://www.hotelcommonwealth.com/wp-content/uploads/2023/02/MGM-scaled.jpg
END:VEVENT
BEGIN:VEVENT
DTSTART;TZID=UTC:20251025T190000
DTEND;TZID=UTC:20251025T190000
DTSTAMP:20260420T065858
CREATED:20250505T161207Z
LAST-MODIFIED:20251201T151342Z
UID:81746-1761418800-1761418800@www.hotelcommonwealth.com
SUMMARY:Minus the Bear - Menos El Oso 20th Anniversary Tour
DESCRIPTION:House of Blues
URL:https://www.hotelcommonwealth.com/event/minus-the-bear-menos-el-oso-20th-anniversary-tour/
ATTACH;FMTTYPE=image/jpeg:https://www.hotelcommonwealth.com/wp-content/uploads/2023/02/House-of-Blues.jpg
END:VEVENT
BEGIN:VEVENT
DTSTART;TZID=UTC:20251026T183000
DTEND;TZID=UTC:20251026T183000
DTSTAMP:20260420T065858
CREATED:20250505T161231Z
LAST-MODIFIED:20250505T161232Z
UID:81748-1761503400-1761503400@www.hotelcommonwealth.com
SUMMARY:Maddox Batson: I NEED A TRUCK TOUR
DESCRIPTION:House of Blues
URL:https://www.hotelcommonwealth.com/event/maddox-batson-i-need-a-truck-tour/
ATTACH;FMTTYPE=image/jpeg:https://www.hotelcommonwealth.com/wp-content/uploads/2023/02/House-of-Blues.jpg
END:VEVENT
BEGIN:VEVENT
DTSTART;TZID=UTC:20251107T200000
DTEND;TZID=UTC:20251107T200000
DTSTAMP:20260420T065858
CREATED:20250325T205920Z
LAST-MODIFIED:20250325T205928Z
UID:81341-1762545600-1762545600@www.hotelcommonwealth.com
SUMMARY:John Legend: Get Lifted - 20th Anniversary Tour
DESCRIPTION:MGM Music Hall at Fenway
URL:https://www.hotelcommonwealth.com/event/john-legend-get-lifted-20th-anniversary-tour/
ATTACH;FMTTYPE=image/jpeg:https://www.hotelcommonwealth.com/wp-content/uploads/2023/02/MGM-scaled.jpg
END:VEVENT
BEGIN:VEVENT
DTSTART;TZID=UTC:20251111T190000
DTEND;TZID=UTC:20251111T190000
DTSTAMP:20260420T065858
CREATED:20250505T161317Z
LAST-MODIFIED:20250505T161317Z
UID:81750-1762887600-1762887600@www.hotelcommonwealth.com
SUMMARY:The Mars Volta
DESCRIPTION:House of Blues
URL:https://www.hotelcommonwealth.com/event/the-mars-volta/
ATTACH;FMTTYPE=image/jpeg:https://www.hotelcommonwealth.com/wp-content/uploads/2023/02/House-of-Blues.jpg
END:VEVENT
BEGIN:VEVENT
DTSTART;TZID=UTC:20251114T190000
DTEND;TZID=UTC:20251114T190000
DTSTAMP:20260420T065858
CREATED:20250505T161337Z
LAST-MODIFIED:20250505T161337Z
UID:81752-1763146800-1763146800@www.hotelcommonwealth.com
SUMMARY:The Wombats: Oh! The Ocean Tour
DESCRIPTION:House of Blues
URL:https://www.hotelcommonwealth.com/event/the-wombats-oh-the-ocean-tour/
ATTACH;FMTTYPE=image/jpeg:https://www.hotelcommonwealth.com/wp-content/uploads/2023/02/House-of-Blues.jpg
END:VEVENT
BEGIN:VEVENT
DTSTART;TZID=UTC:20251122T190000
DTEND;TZID=UTC:20251122T190000
DTSTAMP:20260420T065858
CREATED:20250528T164236Z
LAST-MODIFIED:20250528T164236Z
UID:81864-1763838000-1763838000@www.hotelcommonwealth.com
SUMMARY:Blue October
DESCRIPTION:House of Blues
URL:https://www.hotelcommonwealth.com/event/blue-october/
ATTACH;FMTTYPE=image/jpeg:https://www.hotelcommonwealth.com/wp-content/uploads/2023/02/House-of-Blues.jpg
END:VEVENT
BEGIN:VEVENT
DTSTART;TZID=UTC:20251128T190000
DTEND;TZID=UTC:20251128T190000
DTSTAMP:20260420T065858
CREATED:20251126T155333Z
LAST-MODIFIED:20251126T155333Z
UID:82203-1764356400-1764356400@www.hotelcommonwealth.com
SUMMARY:HASAN HATES RONNY | RONNY HATES HASAN
DESCRIPTION:MGM Music Hall at Fenway
URL:https://www.hotelcommonwealth.com/event/hasan-hates-ronny-ronny-hates-hasan/
ATTACH;FMTTYPE=image/jpeg:https://www.hotelcommonwealth.com/wp-content/uploads/2023/02/MGM-scaled.jpg
END:VEVENT
BEGIN:VEVENT
DTSTART;TZID=UTC:20251204T193000
DTEND;TZID=UTC:20251204T193000
DTSTAMP:20260420T065858
CREATED:20251126T155505Z
LAST-MODIFIED:20251126T155506Z
UID:82205-1764876600-1764876600@www.hotelcommonwealth.com
SUMMARY:Straight No Chaser: Holiday Road Tour
DESCRIPTION:MGM Music Hall at Fenway
URL:https://www.hotelcommonwealth.com/event/straight-no-chaser-holiday-road-tour/
ATTACH;FMTTYPE=image/jpeg:https://www.hotelcommonwealth.com/wp-content/uploads/2023/02/MGM-scaled.jpg
END:VEVENT
BEGIN:VEVENT
DTSTART;TZID=UTC:20251206T190000
DTEND;TZID=UTC:20251206T190000
DTSTAMP:20260420T065858
CREATED:20251126T161414Z
LAST-MODIFIED:20251126T161416Z
UID:82276-1765047600-1765047600@www.hotelcommonwealth.com
SUMMARY:Raekwon & Mobb Deep
DESCRIPTION:House of Blues
URL:https://www.hotelcommonwealth.com/event/raekwon-mobb-deep/
ATTACH;FMTTYPE=image/jpeg:https://www.hotelcommonwealth.com/wp-content/uploads/2023/02/House-of-Blues.jpg
END:VEVENT
BEGIN:VEVENT
DTSTART;TZID=UTC:20251212T190000
DTEND;TZID=UTC:20251212T190000
DTSTAMP:20260420T065858
CREATED:20251126T161437Z
LAST-MODIFIED:20251126T161438Z
UID:82278-1765566000-1765566000@www.hotelcommonwealth.com
SUMMARY:Ghost Hounds
DESCRIPTION:House of Blues
URL:https://www.hotelcommonwealth.com/event/ghost-hounds/
ATTACH;FMTTYPE=image/jpeg:https://www.hotelcommonwealth.com/wp-content/uploads/2023/02/House-of-Blues.jpg
END:VEVENT
BEGIN:VEVENT
DTSTART;TZID=UTC:20251212T200000
DTEND;TZID=UTC:20251212T200000
DTSTAMP:20260420T065858
CREATED:20251126T155532Z
LAST-MODIFIED:20251126T155533Z
UID:82207-1765569600-1765569600@www.hotelcommonwealth.com
SUMMARY:J.I.D - God Does Like Paradise Tour
DESCRIPTION:MGM Music Hall at Fenway
URL:https://www.hotelcommonwealth.com/event/j-i-d-god-does-like-paradise-tour/
ATTACH;FMTTYPE=image/jpeg:https://www.hotelcommonwealth.com/wp-content/uploads/2023/02/MGM-scaled.jpg
END:VEVENT
BEGIN:VEVENT
DTSTART;TZID=UTC:20251213T190000
DTEND;TZID=UTC:20251213T190000
DTSTAMP:20260420T065858
CREATED:20250505T161416Z
LAST-MODIFIED:20250505T161417Z
UID:81754-1765652400-1765652400@www.hotelcommonwealth.com
SUMMARY:The Happy Fits
DESCRIPTION:House of Blues
URL:https://www.hotelcommonwealth.com/event/the-happy-fits/
ATTACH;FMTTYPE=image/jpeg:https://www.hotelcommonwealth.com/wp-content/uploads/2023/02/House-of-Blues.jpg
END:VEVENT
BEGIN:VEVENT
DTSTART;TZID=UTC:20251213T200000
DTEND;TZID=UTC:20251213T200000
DTSTAMP:20260420T065858
CREATED:20251126T155553Z
LAST-MODIFIED:20251126T155554Z
UID:82209-1765656000-1765656000@www.hotelcommonwealth.com
SUMMARY:Medjy - 48 Rebecca
DESCRIPTION:MGM Music Hall at Fenway
URL:https://www.hotelcommonwealth.com/event/medjy-48-rebecca/
ATTACH;FMTTYPE=image/jpeg:https://www.hotelcommonwealth.com/wp-content/uploads/2023/02/MGM-scaled.jpg
END:VEVENT
BEGIN:VEVENT
DTSTART;TZID=UTC:20251227T200000
DTEND;TZID=UTC:20251227T200000
DTSTAMP:20260420T065858
CREATED:20251126T155610Z
LAST-MODIFIED:20251126T155611Z
UID:82211-1766865600-1766865600@www.hotelcommonwealth.com
SUMMARY:John Oliver Live
DESCRIPTION:MGM Music Hall at Fenway
URL:https://www.hotelcommonwealth.com/event/john-oliver-live/
ATTACH;FMTTYPE=image/jpeg:https://www.hotelcommonwealth.com/wp-content/uploads/2023/02/MGM-scaled.jpg
END:VEVENT
BEGIN:VEVENT
DTSTART;TZID=UTC:20251228T200000
DTEND;TZID=UTC:20251228T200000
DTSTAMP:20260420T065858
CREATED:20251126T155626Z
LAST-MODIFIED:20251126T155626Z
UID:82213-1766952000-1766952000@www.hotelcommonwealth.com
SUMMARY:John Oliver Live
DESCRIPTION:MGM Music Hall at Fenway
URL:https://www.hotelcommonwealth.com/event/john-oliver-live-2/
ATTACH;FMTTYPE=image/jpeg:https://www.hotelcommonwealth.com/wp-content/uploads/2023/02/MGM-scaled.jpg
END:VEVENT
END:VCALENDAR