BEGIN:VCALENDAR
VERSION:2.0
PRODID:-//Hotel Commonwealth - ECPv5.14.1//NONSGML v1.0//EN
CALSCALE:GREGORIAN
METHOD:PUBLISH
X-WR-CALNAME:Hotel Commonwealth
X-ORIGINAL-URL:https://www.hotelcommonwealth.com
X-WR-CALDESC:Events for Hotel Commonwealth
REFRESH-INTERVAL;VALUE=DURATION:PT1H
X-Robots-Tag:noindex
X-PUBLISHED-TTL:PT1H
BEGIN:VTIMEZONE
TZID:UTC
BEGIN:STANDARD
TZOFFSETFROM:+0000
TZOFFSETTO:+0000
TZNAME:UTC
DTSTART:20260101T000000
END:STANDARD
END:VTIMEZONE
BEGIN:VEVENT
DTSTART;TZID=UTC:20260130T200000
DTEND;TZID=UTC:20260130T200000
DTSTAMP:20260420T010156
CREATED:20251126T155756Z
LAST-MODIFIED:20251126T155757Z
UID:82219-1769803200-1769803200@www.hotelcommonwealth.com
SUMMARY:The Elovaters - Sunburn Tour 2026
DESCRIPTION:MGM Music Hall at Fenway
URL:https://www.hotelcommonwealth.com/event/the-elovaters-sunburn-tour-2026/
ATTACH;FMTTYPE=image/jpeg:https://www.hotelcommonwealth.com/wp-content/uploads/2023/02/MGM-scaled.jpg
END:VEVENT
BEGIN:VEVENT
DTSTART;TZID=UTC:20260131T200000
DTEND;TZID=UTC:20260131T200000
DTSTAMP:20260420T010156
CREATED:20251126T155823Z
LAST-MODIFIED:20251126T155823Z
UID:82221-1769889600-1769889600@www.hotelcommonwealth.com
SUMMARY:The Elovaters - Sunburn Tour 2026
DESCRIPTION:MGM Music Hall at Fenway
URL:https://www.hotelcommonwealth.com/event/the-elovaters-sunburn-tour-2026-2/
ATTACH;FMTTYPE=image/jpeg:https://www.hotelcommonwealth.com/wp-content/uploads/2023/02/MGM-scaled.jpg
END:VEVENT
BEGIN:VEVENT
DTSTART;TZID=UTC:20260201T181500
DTEND;TZID=UTC:20260201T181500
DTSTAMP:20260420T010156
CREATED:20251126T161726Z
LAST-MODIFIED:20251126T161726Z
UID:82288-1769969700-1769969700@www.hotelcommonwealth.com
SUMMARY:Corey Holcomb: The 5150 Industry Repo Show
DESCRIPTION:House of Blues
URL:https://www.hotelcommonwealth.com/event/corey-holcomb-the-5150-industry-repo-show/
ATTACH;FMTTYPE=image/jpeg:https://www.hotelcommonwealth.com/wp-content/uploads/2023/02/House-of-Blues.jpg
END:VEVENT
BEGIN:VEVENT
DTSTART;TZID=UTC:20260206T200000
DTEND;TZID=UTC:20260206T200000
DTSTAMP:20260420T010156
CREATED:20251126T155901Z
LAST-MODIFIED:20251126T160434Z
UID:82223-1770408000-1770408000@www.hotelcommonwealth.com
SUMMARY:Brett Young: 2.0 Tour
DESCRIPTION:MGM Music Hall at Fenway
URL:https://www.hotelcommonwealth.com/event/brett-young-2-0-tour/
ATTACH;FMTTYPE=image/jpeg:https://www.hotelcommonwealth.com/wp-content/uploads/2023/02/MGM-scaled.jpg
END:VEVENT
BEGIN:VEVENT
DTSTART;TZID=UTC:20260207T200000
DTEND;TZID=UTC:20260207T200000
DTSTAMP:20260420T010156
CREATED:20251126T155943Z
LAST-MODIFIED:20251126T160419Z
UID:82225-1770494400-1770494400@www.hotelcommonwealth.com
SUMMARY:Turnpike Troubadours: Wild America Tour 2026
DESCRIPTION:MGM Music Hall at Fenway
URL:https://www.hotelcommonwealth.com/event/turnpike-troubadours-wild-america-tour-2026/
ATTACH;FMTTYPE=image/jpeg:https://www.hotelcommonwealth.com/wp-content/uploads/2023/02/MGM-scaled.jpg
END:VEVENT
BEGIN:VEVENT
DTSTART;TZID=UTC:20260212T190000
DTEND;TZID=UTC:20260212T190000
DTSTAMP:20260420T010156
CREATED:20251126T161803Z
LAST-MODIFIED:20251126T161804Z
UID:82290-1770922800-1770922800@www.hotelcommonwealth.com
SUMMARY:UMPHREY'S McGEE - SKY'S THE LIMIT TOUR
DESCRIPTION:House of Blues
URL:https://www.hotelcommonwealth.com/event/umphreys-mcgee-skys-the-limit-tour/
ATTACH;FMTTYPE=image/jpeg:https://www.hotelcommonwealth.com/wp-content/uploads/2023/02/House-of-Blues.jpg
END:VEVENT
BEGIN:VEVENT
DTSTART;TZID=UTC:20260214T203000
DTEND;TZID=UTC:20260214T203000
DTSTAMP:20260420T010156
CREATED:20251126T160011Z
LAST-MODIFIED:20251126T160400Z
UID:82227-1771101000-1771101000@www.hotelcommonwealth.com
SUMMARY:Miguel: CAOS Tour
DESCRIPTION:MGM Music Hall at Fenway
URL:https://www.hotelcommonwealth.com/event/miguel-caos-tour/
ATTACH;FMTTYPE=image/jpeg:https://www.hotelcommonwealth.com/wp-content/uploads/2023/02/MGM-scaled.jpg
END:VEVENT
BEGIN:VEVENT
DTSTART;TZID=UTC:20260217T190000
DTEND;TZID=UTC:20260217T190000
DTSTAMP:20260420T010156
CREATED:20251126T161824Z
LAST-MODIFIED:20251126T161825Z
UID:82292-1771354800-1771354800@www.hotelcommonwealth.com
SUMMARY:The Runarounds: The Minivan Tour
DESCRIPTION:House of Blues
URL:https://www.hotelcommonwealth.com/event/the-runarounds-the-minivan-tour/
ATTACH;FMTTYPE=image/jpeg:https://www.hotelcommonwealth.com/wp-content/uploads/2023/02/House-of-Blues.jpg
END:VEVENT
BEGIN:VEVENT
DTSTART;TZID=UTC:20260218T190000
DTEND;TZID=UTC:20260218T190000
DTSTAMP:20260420T010156
CREATED:20251126T161844Z
LAST-MODIFIED:20251126T161930Z
UID:82294-1771441200-1771441200@www.hotelcommonwealth.com
SUMMARY:JADE - THAT'S SHOWBIZ BABY!
DESCRIPTION:House of Blues
URL:https://www.hotelcommonwealth.com/event/ade-thats-showbiz-baby/
ATTACH;FMTTYPE=image/jpeg:https://www.hotelcommonwealth.com/wp-content/uploads/2023/02/House-of-Blues.jpg
END:VEVENT
BEGIN:VEVENT
DTSTART;TZID=UTC:20260219T191500
DTEND;TZID=UTC:20260219T191500
DTSTAMP:20260420T010156
CREATED:20251126T160106Z
LAST-MODIFIED:20251126T160546Z
UID:82230-1771528500-1771528500@www.hotelcommonwealth.com
SUMMARY:Excision
DESCRIPTION:MGM Music Hall at Fenway
URL:https://www.hotelcommonwealth.com/event/excision/
ATTACH;FMTTYPE=image/jpeg:https://www.hotelcommonwealth.com/wp-content/uploads/2023/02/MGM-scaled.jpg
END:VEVENT
BEGIN:VEVENT
DTSTART;TZID=UTC:20260220T173000
DTEND;TZID=UTC:20260220T173000
DTSTAMP:20260420T010156
CREATED:20251126T161915Z
LAST-MODIFIED:20251126T161916Z
UID:82296-1771608600-1771608600@www.hotelcommonwealth.com
SUMMARY:Nothing More w/ Catch Your Breath
DESCRIPTION:House of Blues
URL:https://www.hotelcommonwealth.com/event/nothing-more-w-catch-your-breath/
ATTACH;FMTTYPE=image/jpeg:https://www.hotelcommonwealth.com/wp-content/uploads/2023/02/House-of-Blues.jpg
END:VEVENT
BEGIN:VEVENT
DTSTART;TZID=UTC:20260221T190000
DTEND;TZID=UTC:20260221T190000
DTSTAMP:20260420T010156
CREATED:20251126T161957Z
LAST-MODIFIED:20251201T153139Z
UID:82299-1771700400-1771700400@www.hotelcommonwealth.com
SUMMARY:Lauren Spencer Smith: THE ART OF BEING A MESS TOUR
DESCRIPTION:House of Blues
URL:https://www.hotelcommonwealth.com/event/lauren-spencer-smith-the-art-of-being-a-mess-tour/
ATTACH;FMTTYPE=image/jpeg:https://www.hotelcommonwealth.com/wp-content/uploads/2023/02/House-of-Blues.jpg
END:VEVENT
BEGIN:VEVENT
DTSTART;TZID=UTC:20260225T190000
DTEND;TZID=UTC:20260225T190000
DTSTAMP:20260420T010156
CREATED:20251126T162028Z
LAST-MODIFIED:20251126T162028Z
UID:82301-1772046000-1772046000@www.hotelcommonwealth.com
SUMMARY:Ruel - Kicking My Feet Tour
DESCRIPTION:House of Blues
URL:https://www.hotelcommonwealth.com/event/ruel-kicking-my-feet-tour/
ATTACH;FMTTYPE=image/jpeg:https://www.hotelcommonwealth.com/wp-content/uploads/2023/02/House-of-Blues.jpg
END:VEVENT
BEGIN:VEVENT
DTSTART;TZID=UTC:20260226T190000
DTEND;TZID=UTC:20260226T190000
DTSTAMP:20260420T010156
CREATED:20251126T162055Z
LAST-MODIFIED:20251126T162056Z
UID:82303-1772132400-1772132400@www.hotelcommonwealth.com
SUMMARY:RICH BRIAN: WHERE IS MY HEAD?
DESCRIPTION:House of Blues
URL:https://www.hotelcommonwealth.com/event/rich-brian-where-is-my-head/
ATTACH;FMTTYPE=image/jpeg:https://www.hotelcommonwealth.com/wp-content/uploads/2023/02/House-of-Blues.jpg
END:VEVENT
BEGIN:VEVENT
DTSTART;TZID=UTC:20260228T200000
DTEND;TZID=UTC:20260228T200000
DTSTAMP:20260420T010156
CREATED:20251126T160153Z
LAST-MODIFIED:20251126T160601Z
UID:82233-1772308800-1772308800@www.hotelcommonwealth.com
SUMMARY:Mariah the Scientist: HEARTS SOLD SEPARATELY TOUR
DESCRIPTION:MGM Music Hall at Fenway
URL:https://www.hotelcommonwealth.com/event/mariah-the-scientist-hearts-sold-separately-tour/
ATTACH;FMTTYPE=image/jpeg:https://www.hotelcommonwealth.com/wp-content/uploads/2023/02/MGM-scaled.jpg
END:VEVENT
BEGIN:VEVENT
DTSTART;TZID=UTC:20260301T190000
DTEND;TZID=UTC:20260301T190000
DTSTAMP:20260420T010156
CREATED:20251126T162123Z
LAST-MODIFIED:20251126T162123Z
UID:82305-1772391600-1772391600@www.hotelcommonwealth.com
SUMMARY:dodie with special guest Andy Louis
DESCRIPTION:House of Blues
URL:https://www.hotelcommonwealth.com/event/dodie-with-special-guest-andy-louis/
ATTACH;FMTTYPE=image/jpeg:https://www.hotelcommonwealth.com/wp-content/uploads/2023/02/House-of-Blues.jpg
END:VEVENT
BEGIN:VEVENT
DTSTART;TZID=UTC:20260306T190000
DTEND;TZID=UTC:20260306T190000
DTSTAMP:20260420T010156
CREATED:20251126T162139Z
LAST-MODIFIED:20251126T162140Z
UID:82307-1772823600-1772823600@www.hotelcommonwealth.com
SUMMARY:Jesse Welles - Under The Powerlines
DESCRIPTION:House of Blues
URL:https://www.hotelcommonwealth.com/event/jesse-welles-under-the-powerlines/
ATTACH;FMTTYPE=image/jpeg:https://www.hotelcommonwealth.com/wp-content/uploads/2023/02/House-of-Blues.jpg
END:VEVENT
BEGIN:VEVENT
DTSTART;TZID=UTC:20260306T200000
DTEND;TZID=UTC:20260306T200000
DTSTAMP:20260420T010156
CREATED:20251126T160237Z
LAST-MODIFIED:20251201T154543Z
UID:82236-1772827200-1772827200@www.hotelcommonwealth.com
SUMMARY:Rainbow Kitten Surprise: bones North American Tour
DESCRIPTION:MGM Music Hall at Fenway
URL:https://www.hotelcommonwealth.com/event/rainbow-kitten-surprise-bones-north-american-tour/
ATTACH;FMTTYPE=image/jpeg:https://www.hotelcommonwealth.com/wp-content/uploads/2023/02/MGM-scaled.jpg
END:VEVENT
BEGIN:VEVENT
DTSTART;TZID=UTC:20260311T200000
DTEND;TZID=UTC:20260311T200000
DTSTAMP:20260420T010156
CREATED:20251126T160306Z
LAST-MODIFIED:20251126T160632Z
UID:82238-1773259200-1773259200@www.hotelcommonwealth.com
SUMMARY:bbno$ - The Internet Explorer Tour
DESCRIPTION:MGM Music Hall at Fenway
URL:https://www.hotelcommonwealth.com/event/bbno-the-internet-explorer-tour/
ATTACH;FMTTYPE=image/jpeg:https://www.hotelcommonwealth.com/wp-content/uploads/2023/02/MGM-scaled.jpg
END:VEVENT
BEGIN:VEVENT
DTSTART;TZID=UTC:20260312T190000
DTEND;TZID=UTC:20260312T190000
DTSTAMP:20260420T010156
CREATED:20251126T160332Z
LAST-MODIFIED:20251126T160653Z
UID:82240-1773342000-1773342000@www.hotelcommonwealth.com
SUMMARY:Sabaton: Legends on Tour
DESCRIPTION:MGM Music Hall at Fenway
URL:https://www.hotelcommonwealth.com/event/sabaton-legends-on-tour/
ATTACH;FMTTYPE=image/jpeg:https://www.hotelcommonwealth.com/wp-content/uploads/2023/02/MGM-scaled.jpg
END:VEVENT
BEGIN:VEVENT
DTSTART;TZID=UTC:20260313T190000
DTEND;TZID=UTC:20260313T190000
DTSTAMP:20260420T010156
CREATED:20251126T160715Z
LAST-MODIFIED:20251201T150733Z
UID:82251-1773428400-1773428400@www.hotelcommonwealth.com
SUMMARY:DROPKICK MURPHYS:For The People In the Pit St. Patrick's Day 2026 Tour
DESCRIPTION:MGM Music Hall at Fenway
URL:https://www.hotelcommonwealth.com/event/dropkick-murphysfor-the-people-in-the-pit-st-patricks-day-2026-tour/
ATTACH;FMTTYPE=image/jpeg:https://www.hotelcommonwealth.com/wp-content/uploads/2023/02/MGM-scaled.jpg
END:VEVENT
BEGIN:VEVENT
DTSTART;TZID=UTC:20260314T144500
DTEND;TZID=UTC:20260314T144500
DTSTAMP:20260420T010156
CREATED:20251126T160744Z
LAST-MODIFIED:20251126T160745Z
UID:82253-1773499500-1773499500@www.hotelcommonwealth.com
SUMMARY:Mini Concert with Dropkick Murphys
DESCRIPTION:MGM Music Hall at Fenway
URL:https://www.hotelcommonwealth.com/event/mini-concert-with-dropkick-murphys/
ATTACH;FMTTYPE=image/jpeg:https://www.hotelcommonwealth.com/wp-content/uploads/2023/02/MGM-scaled.jpg
END:VEVENT
BEGIN:VEVENT
DTSTART;TZID=UTC:20260314T190000
DTEND;TZID=UTC:20260314T190000
DTSTAMP:20260420T010156
CREATED:20251126T160810Z
LAST-MODIFIED:20251201T151734Z
UID:82255-1773514800-1773514800@www.hotelcommonwealth.com
SUMMARY:DROPKICK MURPHYS:For The People In the Pit St. Patrick's Day 2026 Tour
DESCRIPTION:MGM Music Hall at Fenway
URL:https://www.hotelcommonwealth.com/event/dropkick-murphysfor-the-people-in-the-pit-st-patricks-day-2026-tour-2/
ATTACH;FMTTYPE=image/jpeg:https://www.hotelcommonwealth.com/wp-content/uploads/2023/02/MGM-scaled.jpg
END:VEVENT
BEGIN:VEVENT
DTSTART;TZID=UTC:20260315T190000
DTEND;TZID=UTC:20260315T190000
DTSTAMP:20260420T010156
CREATED:20251126T160825Z
LAST-MODIFIED:20251201T155155Z
UID:82257-1773601200-1773601200@www.hotelcommonwealth.com
SUMMARY:DROPKICK MURPHYS:For The People In the Pit St. Patrick's Day 2026 Tour
DESCRIPTION:MGM Music Hall at Fenway
URL:https://www.hotelcommonwealth.com/event/dropkick-murphysfor-the-people-in-the-pit-st-patricks-day-2026-tour-3/
ATTACH;FMTTYPE=image/jpeg:https://www.hotelcommonwealth.com/wp-content/uploads/2023/02/MGM-scaled.jpg
END:VEVENT
BEGIN:VEVENT
DTSTART;TZID=UTC:20260318T190000
DTEND;TZID=UTC:20260318T190000
DTSTAMP:20260420T010156
CREATED:20251126T162237Z
LAST-MODIFIED:20251126T162238Z
UID:82309-1773860400-1773860400@www.hotelcommonwealth.com
SUMMARY:Stephen Wilson Jr. - Gary The Torch Tour
DESCRIPTION:House of Blues
URL:https://www.hotelcommonwealth.com/event/stephen-wilson-jr-gary-the-torch-tour/
ATTACH;FMTTYPE=image/jpeg:https://www.hotelcommonwealth.com/wp-content/uploads/2023/02/House-of-Blues.jpg
END:VEVENT
BEGIN:VEVENT
DTSTART;TZID=UTC:20260319T190000
DTEND;TZID=UTC:20260319T190000
DTSTAMP:20260420T010156
CREATED:20251126T162316Z
LAST-MODIFIED:20251126T162316Z
UID:82311-1773946800-1773946800@www.hotelcommonwealth.com
SUMMARY:Sticky Fingers - Live in North America
DESCRIPTION:House of Blues
URL:https://www.hotelcommonwealth.com/event/sticky-fingers-live-in-north-america/
ATTACH;FMTTYPE=image/jpeg:https://www.hotelcommonwealth.com/wp-content/uploads/2023/02/House-of-Blues.jpg
END:VEVENT
BEGIN:VEVENT
DTSTART;TZID=UTC:20260320T190000
DTEND;TZID=UTC:20260320T190000
DTSTAMP:20260420T010156
CREATED:20251126T162339Z
LAST-MODIFIED:20251126T162340Z
UID:82313-1774033200-1774033200@www.hotelcommonwealth.com
SUMMARY:The Hives
DESCRIPTION:House of Blues
URL:https://www.hotelcommonwealth.com/event/the-hives/
ATTACH;FMTTYPE=image/jpeg:https://www.hotelcommonwealth.com/wp-content/uploads/2023/02/House-of-Blues.jpg
END:VEVENT
BEGIN:VEVENT
DTSTART;TZID=UTC:20260320T193000
DTEND;TZID=UTC:20260320T193000
DTSTAMP:20260420T010156
CREATED:20251126T160844Z
LAST-MODIFIED:20251126T160934Z
UID:82259-1774035000-1774035000@www.hotelcommonwealth.com
SUMMARY:Subtronics: Fibonacci Tour 2026
DESCRIPTION:MGM Music Hall at Fenway
URL:https://www.hotelcommonwealth.com/event/subtronics-fibonacci-tour-2026/
ATTACH;FMTTYPE=image/jpeg:https://www.hotelcommonwealth.com/wp-content/uploads/2023/02/MGM-scaled.jpg
END:VEVENT
BEGIN:VEVENT
DTSTART;TZID=UTC:20260321T180000
DTEND;TZID=UTC:20260321T180000
DTSTAMP:20260420T010156
CREATED:20251126T162420Z
LAST-MODIFIED:20251201T151827Z
UID:82315-1774116000-1774116000@www.hotelcommonwealth.com
SUMMARY:Joyce Manor\, Militarie Gun\, Teen Mortgage\, & Combat
DESCRIPTION:House of Blues
URL:https://www.hotelcommonwealth.com/event/joyce-manor-militarie-gun-teen-mortgage-combat/
ATTACH;FMTTYPE=image/jpeg:https://www.hotelcommonwealth.com/wp-content/uploads/2023/02/House-of-Blues.jpg
END:VEVENT
BEGIN:VEVENT
DTSTART;TZID=UTC:20260326T190000
DTEND;TZID=UTC:20260326T190000
DTSTAMP:20260420T010156
CREATED:20251126T162448Z
LAST-MODIFIED:20251126T162448Z
UID:82317-1774551600-1774551600@www.hotelcommonwealth.com
SUMMARY:ERNEST: LIVE FROM THE SOUTH TOUR
DESCRIPTION:House of Blues
URL:https://www.hotelcommonwealth.com/event/ernest-live-from-the-south-tour/
ATTACH;FMTTYPE=image/jpeg:https://www.hotelcommonwealth.com/wp-content/uploads/2023/02/House-of-Blues.jpg
END:VEVENT
END:VCALENDAR