BEGIN:VCALENDAR
VERSION:2.0
PRODID:-//Hotel Commonwealth - ECPv5.14.1//NONSGML v1.0//EN
CALSCALE:GREGORIAN
METHOD:PUBLISH
X-WR-CALNAME:Hotel Commonwealth
X-ORIGINAL-URL:https://www.hotelcommonwealth.com
X-WR-CALDESC:Events for Hotel Commonwealth
REFRESH-INTERVAL;VALUE=DURATION:PT1H
X-Robots-Tag:noindex
X-PUBLISHED-TTL:PT1H
BEGIN:VTIMEZONE
TZID:UTC
BEGIN:STANDARD
TZOFFSETFROM:+0000
TZOFFSETTO:+0000
TZNAME:UTC
DTSTART:20260101T000000
END:STANDARD
END:VTIMEZONE
BEGIN:VEVENT
DTSTART;TZID=UTC:20260411T190000
DTEND;TZID=UTC:20260411T190000
DTSTAMP:20260420T055742
CREATED:20251126T162637Z
LAST-MODIFIED:20251126T162637Z
UID:82325-1775934000-1775934000@www.hotelcommonwealth.com
SUMMARY:Niko Moon: The American Palm Tour
DESCRIPTION:House of Blues
URL:https://www.hotelcommonwealth.com/event/niko-moon-the-american-palm-tour/
ATTACH;FMTTYPE=image/jpeg:https://www.hotelcommonwealth.com/wp-content/uploads/2023/02/House-of-Blues.jpg
END:VEVENT
BEGIN:VEVENT
DTSTART;TZID=UTC:20260415T183000
DTEND;TZID=UTC:20260415T183000
DTSTAMP:20260420T055742
CREATED:20251126T162722Z
LAST-MODIFIED:20251126T162723Z
UID:82327-1776277800-1776277800@www.hotelcommonwealth.com
SUMMARY:Helloween: 40th Anniversary North American Tour
DESCRIPTION:House of Blues
URL:https://www.hotelcommonwealth.com/event/helloween-40th-anniversary-north-american-tour/
ATTACH;FMTTYPE=image/jpeg:https://www.hotelcommonwealth.com/wp-content/uploads/2023/02/House-of-Blues.jpg
END:VEVENT
BEGIN:VEVENT
DTSTART;TZID=UTC:20260417T120000
DTEND;TZID=UTC:20260420T120000
DTSTAMP:20260420T055742
CREATED:20251126T184706Z
LAST-MODIFIED:20251126T184707Z
UID:82351-1776427200-1776686400@www.hotelcommonwealth.com
SUMMARY:Red Sox vs. Tigers
DESCRIPTION:Fenway Park
URL:https://www.hotelcommonwealth.com/event/red-sox-vs-tigers/
ATTACH;FMTTYPE=image/jpeg:https://www.hotelcommonwealth.com/wp-content/uploads/2023/02/Red-Sox.jpg
END:VEVENT
BEGIN:VEVENT
DTSTART;TZID=UTC:20260417T183000
DTEND;TZID=UTC:20260417T183000
DTSTAMP:20260420T055742
CREATED:20251126T162742Z
LAST-MODIFIED:20251126T162743Z
UID:82329-1776450600-1776450600@www.hotelcommonwealth.com
SUMMARY:HEALTH x CARPENTER BRUT
DESCRIPTION:House of Blues
URL:https://www.hotelcommonwealth.com/event/health-x-carpenter-brut/
ATTACH;FMTTYPE=image/jpeg:https://www.hotelcommonwealth.com/wp-content/uploads/2023/02/House-of-Blues.jpg
END:VEVENT
BEGIN:VEVENT
DTSTART;TZID=UTC:20260418T193000
DTEND;TZID=UTC:20260418T193000
DTSTAMP:20260420T055742
CREATED:20251126T161001Z
LAST-MODIFIED:20251126T161002Z
UID:82264-1776540600-1776540600@www.hotelcommonwealth.com
SUMMARY:Lewis Capaldi
DESCRIPTION:MGM Music Hall at Fenway
URL:https://www.hotelcommonwealth.com/event/lewis-capaldi/
ATTACH;FMTTYPE=image/jpeg:https://www.hotelcommonwealth.com/wp-content/uploads/2023/02/MGM-scaled.jpg
END:VEVENT
BEGIN:VEVENT
DTSTART;TZID=UTC:20260419T193000
DTEND;TZID=UTC:20260419T193000
DTSTAMP:20260420T055742
CREATED:20251126T161013Z
LAST-MODIFIED:20251126T161014Z
UID:82266-1776627000-1776627000@www.hotelcommonwealth.com
SUMMARY:Lewis Capaldi
DESCRIPTION:MGM Music Hall at Fenway
URL:https://www.hotelcommonwealth.com/event/lewis-capaldi-2/
ATTACH;FMTTYPE=image/jpeg:https://www.hotelcommonwealth.com/wp-content/uploads/2023/02/MGM-scaled.jpg
END:VEVENT
BEGIN:VEVENT
DTSTART;TZID=UTC:20260420T200000
DTEND;TZID=UTC:20260420T200000
DTSTAMP:20260420T055742
CREATED:20251126T161045Z
LAST-MODIFIED:20251126T161045Z
UID:82268-1776715200-1776715200@www.hotelcommonwealth.com
SUMMARY:RAYE - THIS TOUR MAY CONTAIN NEW MUSIC
DESCRIPTION:MGM Music Hall at Fenway
URL:https://www.hotelcommonwealth.com/event/raye-this-tour-may-contain-new-music/
ATTACH;FMTTYPE=image/jpeg:https://www.hotelcommonwealth.com/wp-content/uploads/2023/02/MGM-scaled.jpg
END:VEVENT
BEGIN:VEVENT
DTSTART;TZID=UTC:20260421T120000
DTEND;TZID=UTC:20260423T120000
DTSTAMP:20260420T055742
CREATED:20251126T184734Z
LAST-MODIFIED:20251126T184735Z
UID:82353-1776772800-1776945600@www.hotelcommonwealth.com
SUMMARY:Red Sox vs. Yankees
DESCRIPTION:Fenway Park
URL:https://www.hotelcommonwealth.com/event/red-sox-vs-yankees/
ATTACH;FMTTYPE=image/jpeg:https://www.hotelcommonwealth.com/wp-content/uploads/2023/02/Red-Sox.jpg
END:VEVENT
BEGIN:VEVENT
DTSTART;TZID=UTC:20260423T190000
DTEND;TZID=UTC:20260423T190000
DTSTAMP:20260420T055742
CREATED:20251126T162807Z
LAST-MODIFIED:20251126T162807Z
UID:82331-1776970800-1776970800@www.hotelcommonwealth.com
SUMMARY:The Midnight: Time Machines
DESCRIPTION:House of Blues
URL:https://www.hotelcommonwealth.com/event/the-midnight-time-machines/
ATTACH;FMTTYPE=image/jpeg:https://www.hotelcommonwealth.com/wp-content/uploads/2023/02/House-of-Blues.jpg
END:VEVENT
BEGIN:VEVENT
DTSTART;TZID=UTC:20260426T190000
DTEND;TZID=UTC:20260426T190000
DTSTAMP:20260420T055742
CREATED:20251126T161106Z
LAST-MODIFIED:20251126T161106Z
UID:82270-1777230000-1777230000@www.hotelcommonwealth.com
SUMMARY:Lamb of God
DESCRIPTION:MGM Music Hall at Fenway
URL:https://www.hotelcommonwealth.com/event/lamb-of-god/
ATTACH;FMTTYPE=image/jpeg:https://www.hotelcommonwealth.com/wp-content/uploads/2023/02/MGM-scaled.jpg
END:VEVENT
BEGIN:VEVENT
DTSTART;TZID=UTC:20260426T190000
DTEND;TZID=UTC:20260426T190000
DTSTAMP:20260420T055742
CREATED:20251126T162832Z
LAST-MODIFIED:20251126T162832Z
UID:82333-1777230000-1777230000@www.hotelcommonwealth.com
SUMMARY:St. Paul & the Broken Bones
DESCRIPTION:House of Blues
URL:https://www.hotelcommonwealth.com/event/st-paul-the-broken-bones/
ATTACH;FMTTYPE=image/jpeg:https://www.hotelcommonwealth.com/wp-content/uploads/2023/02/House-of-Blues.jpg
END:VEVENT
BEGIN:VEVENT
DTSTART;TZID=UTC:20260429T190000
DTEND;TZID=UTC:20260429T190000
DTSTAMP:20260420T055742
CREATED:20251126T162854Z
LAST-MODIFIED:20251126T162855Z
UID:82335-1777489200-1777489200@www.hotelcommonwealth.com
SUMMARY:MIKA - SPINNING OUT TOUR NORTH AMERICA
DESCRIPTION:House of Blues
URL:https://www.hotelcommonwealth.com/event/mika-spinning-out-tour-north-america/
ATTACH;FMTTYPE=image/jpeg:https://www.hotelcommonwealth.com/wp-content/uploads/2023/02/House-of-Blues.jpg
END:VEVENT
BEGIN:VEVENT
DTSTART;TZID=UTC:20260501T120000
DTEND;TZID=UTC:20260503T120000
DTSTAMP:20260420T055742
CREATED:20251126T184813Z
LAST-MODIFIED:20251126T184814Z
UID:82355-1777636800-1777809600@www.hotelcommonwealth.com
SUMMARY:Red Sox vs. Astros
DESCRIPTION:Fenway Park
URL:https://www.hotelcommonwealth.com/event/red-sox-vs-astros/
ATTACH;FMTTYPE=image/jpeg:https://www.hotelcommonwealth.com/wp-content/uploads/2023/02/Red-Sox.jpg
END:VEVENT
BEGIN:VEVENT
DTSTART;TZID=UTC:20260507T120000
DTEND;TZID=UTC:20260510T120000
DTSTAMP:20260420T055742
CREATED:20251126T184836Z
LAST-MODIFIED:20251126T184836Z
UID:82357-1778155200-1778414400@www.hotelcommonwealth.com
SUMMARY:Red Sox vs. Rays
DESCRIPTION:Fenway Park
URL:https://www.hotelcommonwealth.com/event/red-sox-vs-rays/
ATTACH;FMTTYPE=image/jpeg:https://www.hotelcommonwealth.com/wp-content/uploads/2023/02/Red-Sox.jpg
END:VEVENT
BEGIN:VEVENT
DTSTART;TZID=UTC:20260508T180000
DTEND;TZID=UTC:20260508T180000
DTSTAMP:20260420T055742
CREATED:20251126T162922Z
LAST-MODIFIED:20251126T162922Z
UID:82337-1778263200-1778263200@www.hotelcommonwealth.com
SUMMARY:Josiah Queen - The Mt. Zion Tour
DESCRIPTION:House of Blues
URL:https://www.hotelcommonwealth.com/event/josiah-queen-the-mt-zion-tour/
ATTACH;FMTTYPE=image/jpeg:https://www.hotelcommonwealth.com/wp-content/uploads/2023/02/House-of-Blues.jpg
END:VEVENT
BEGIN:VEVENT
DTSTART;TZID=UTC:20260510T180000
DTEND;TZID=UTC:20260510T180000
DTSTAMP:20260420T055742
CREATED:20251126T162947Z
LAST-MODIFIED:20251126T162948Z
UID:82339-1778436000-1778436000@www.hotelcommonwealth.com
SUMMARY:Alter Bridge - What Lies Within Tour
DESCRIPTION:House of Blues
URL:https://www.hotelcommonwealth.com/event/alter-bridge-what-lies-within-tour/
ATTACH;FMTTYPE=image/jpeg:https://www.hotelcommonwealth.com/wp-content/uploads/2023/02/House-of-Blues.jpg
END:VEVENT
BEGIN:VEVENT
DTSTART;TZID=UTC:20260512T120000
DTEND;TZID=UTC:20260514T120000
DTSTAMP:20260420T055742
CREATED:20251126T184856Z
LAST-MODIFIED:20251126T184857Z
UID:82359-1778587200-1778760000@www.hotelcommonwealth.com
SUMMARY:Red Sox vs. Phillies
DESCRIPTION:Fenway Park
URL:https://www.hotelcommonwealth.com/event/red-sox-vs-phillies/
ATTACH;FMTTYPE=image/jpeg:https://www.hotelcommonwealth.com/wp-content/uploads/2023/02/Red-Sox.jpg
END:VEVENT
BEGIN:VEVENT
DTSTART;TZID=UTC:20260516T190000
DTEND;TZID=UTC:20260516T190000
DTSTAMP:20260420T055742
CREATED:20251126T163017Z
LAST-MODIFIED:20251126T163018Z
UID:82341-1778958000-1778958000@www.hotelcommonwealth.com
SUMMARY:CMAT
DESCRIPTION:House of Blues
URL:https://www.hotelcommonwealth.com/event/cmat/
ATTACH;FMTTYPE=image/jpeg:https://www.hotelcommonwealth.com/wp-content/uploads/2023/02/House-of-Blues.jpg
END:VEVENT
BEGIN:VEVENT
DTSTART;TZID=UTC:20260522T120000
DTEND;TZID=UTC:20260524T120000
DTSTAMP:20260420T055742
CREATED:20251126T184925Z
LAST-MODIFIED:20251126T184925Z
UID:82361-1779451200-1779624000@www.hotelcommonwealth.com
SUMMARY:Red Sox vs. Twins
DESCRIPTION:Fenway Park
URL:https://www.hotelcommonwealth.com/event/red-sox-vs-twins/
ATTACH;FMTTYPE=image/jpeg:https://www.hotelcommonwealth.com/wp-content/uploads/2023/02/Red-Sox.jpg
END:VEVENT
BEGIN:VEVENT
DTSTART;TZID=UTC:20260526T120000
DTEND;TZID=UTC:20260528T120000
DTSTAMP:20260420T055742
CREATED:20251126T185017Z
LAST-MODIFIED:20251126T185017Z
UID:82363-1779796800-1779969600@www.hotelcommonwealth.com
SUMMARY:Red Sox vs. Braves
DESCRIPTION:Fenway Park
URL:https://www.hotelcommonwealth.com/event/red-sox-vs-braves/
ATTACH;FMTTYPE=image/jpeg:https://www.hotelcommonwealth.com/wp-content/uploads/2023/02/Red-Sox.jpg
END:VEVENT
BEGIN:VEVENT
DTSTART;TZID=UTC:20260527T190000
DTEND;TZID=UTC:20260527T190000
DTSTAMP:20260420T055742
CREATED:20251126T161128Z
LAST-MODIFIED:20251126T161128Z
UID:82272-1779908400-1779908400@www.hotelcommonwealth.com
SUMMARY:ELECTRIC CALLBOY: TANZNEID WORLD TOUR
DESCRIPTION:MGM Music Hall at Fenway
URL:https://www.hotelcommonwealth.com/event/electric-callboy-tanzneid-world-tour/
ATTACH;FMTTYPE=image/jpeg:https://www.hotelcommonwealth.com/wp-content/uploads/2023/02/MGM-scaled.jpg
END:VEVENT
BEGIN:VEVENT
DTSTART;TZID=UTC:20260602T120000
DTEND;TZID=UTC:20260604T120000
DTSTAMP:20260420T055742
CREATED:20251126T185144Z
LAST-MODIFIED:20251126T185145Z
UID:82365-1780401600-1780574400@www.hotelcommonwealth.com
SUMMARY:Red Sox vs. Orioles
DESCRIPTION:Fenway Park
URL:https://www.hotelcommonwealth.com/event/red-sox-vs-orioles/
ATTACH;FMTTYPE=image/jpeg:https://www.hotelcommonwealth.com/wp-content/uploads/2023/02/Red-Sox.jpg
END:VEVENT
BEGIN:VEVENT
DTSTART;TZID=UTC:20260612T120000
DTEND;TZID=UTC:20260614T120000
DTSTAMP:20260420T055742
CREATED:20251126T185216Z
LAST-MODIFIED:20251126T185217Z
UID:82367-1781265600-1781438400@www.hotelcommonwealth.com
SUMMARY:Red Sox vs. Rangers
DESCRIPTION:Fenway Park
URL:https://www.hotelcommonwealth.com/event/red-sox-vs-rangers/
ATTACH;FMTTYPE=image/jpeg:https://www.hotelcommonwealth.com/wp-content/uploads/2023/02/Red-Sox.jpg
END:VEVENT
BEGIN:VEVENT
DTSTART;TZID=UTC:20260613T120000
DTEND;TZID=UTC:20260613T120000
DTSTAMP:20260420T055742
CREATED:20251126T190546Z
LAST-MODIFIED:20251126T190546Z
UID:82399-1781352000-1781352000@www.hotelcommonwealth.com
SUMMARY:Group Stage (Match 5)
DESCRIPTION:Boston Stadium
URL:https://www.hotelcommonwealth.com/event/group-stage-match-5/
ATTACH;FMTTYPE=image/jpeg:https://www.hotelcommonwealth.com/wp-content/uploads/2025/02/pexels-pixabay-274506-scaled.jpg
END:VEVENT
BEGIN:VEVENT
DTSTART;TZID=UTC:20260613T190000
DTEND;TZID=UTC:20260613T190000
DTSTAMP:20260420T055742
CREATED:20251126T161201Z
LAST-MODIFIED:20251126T161201Z
UID:82274-1781377200-1781377200@www.hotelcommonwealth.com
SUMMARY:Daniel Tosh: My First Farewell Tour
DESCRIPTION:MGM Music Hall at Fenway
URL:https://www.hotelcommonwealth.com/event/daniel-tosh-my-first-farewell-tour/
ATTACH;FMTTYPE=image/jpeg:https://www.hotelcommonwealth.com/wp-content/uploads/2023/02/MGM-scaled.jpg
END:VEVENT
BEGIN:VEVENT
DTSTART;TZID=UTC:20260616T120000
DTEND;TZID=UTC:20260616T120000
DTSTAMP:20260420T055742
CREATED:20251126T190640Z
LAST-MODIFIED:20251126T190640Z
UID:82401-1781611200-1781611200@www.hotelcommonwealth.com
SUMMARY:Group Stage (Match 18)
DESCRIPTION:Boston Stadium
URL:https://www.hotelcommonwealth.com/event/group-stage-match-18/
ATTACH;FMTTYPE=image/jpeg:https://www.hotelcommonwealth.com/wp-content/uploads/2025/02/pexels-pixabay-274506-scaled.jpg
END:VEVENT
BEGIN:VEVENT
DTSTART;TZID=UTC:20260616T120000
DTEND;TZID=UTC:20260618T120000
DTSTAMP:20260420T055742
CREATED:20251126T185239Z
LAST-MODIFIED:20251126T185240Z
UID:82369-1781611200-1781784000@www.hotelcommonwealth.com
SUMMARY:Red Sox vs. Blue Jays
DESCRIPTION:Fenway Park
URL:https://www.hotelcommonwealth.com/event/red-sox-vs-blue-jays/
ATTACH;FMTTYPE=image/jpeg:https://www.hotelcommonwealth.com/wp-content/uploads/2023/02/Red-Sox.jpg
END:VEVENT
BEGIN:VEVENT
DTSTART;TZID=UTC:20260619T120000
DTEND;TZID=UTC:20260619T120000
DTSTAMP:20260420T055742
CREATED:20251126T190927Z
LAST-MODIFIED:20251126T190927Z
UID:82403-1781870400-1781870400@www.hotelcommonwealth.com
SUMMARY:Group Stage (Match 30)
DESCRIPTION:Boston Stadium
URL:https://www.hotelcommonwealth.com/event/group-stage-match-30/
ATTACH;FMTTYPE=image/jpeg:https://www.hotelcommonwealth.com/wp-content/uploads/2025/02/pexels-pixabay-274506-scaled.jpg
END:VEVENT
BEGIN:VEVENT
DTSTART;TZID=UTC:20260621T190000
DTEND;TZID=UTC:20260621T190000
DTSTAMP:20260420T055742
CREATED:20251126T163049Z
LAST-MODIFIED:20251126T163049Z
UID:82343-1782068400-1782068400@www.hotelcommonwealth.com
SUMMARY:WOLFMOTHER - 20th Anniversary Tour
DESCRIPTION:House of Blues
URL:https://www.hotelcommonwealth.com/event/wolfmother-20th-anniversary-tour/
ATTACH;FMTTYPE=image/jpeg:https://www.hotelcommonwealth.com/wp-content/uploads/2023/02/House-of-Blues.jpg
END:VEVENT
BEGIN:VEVENT
DTSTART;TZID=UTC:20260623T120000
DTEND;TZID=UTC:20260623T120000
DTSTAMP:20260420T055742
CREATED:20251126T190950Z
LAST-MODIFIED:20251126T190950Z
UID:82405-1782216000-1782216000@www.hotelcommonwealth.com
SUMMARY:Group Stage (Match 45)
DESCRIPTION:Boston Stadium
URL:https://www.hotelcommonwealth.com/event/group-stage-match-45/
ATTACH;FMTTYPE=image/jpeg:https://www.hotelcommonwealth.com/wp-content/uploads/2025/02/pexels-pixabay-274506-scaled.jpg
END:VEVENT
END:VCALENDAR